BEGIN:VCALENDAR
VERSION:2.0
PRODID:-//No Prep Racing - ECPv6.15.20//NONSGML v1.0//EN
CALSCALE:GREGORIAN
METHOD:PUBLISH
X-WR-CALNAME:No Prep Racing
X-ORIGINAL-URL:https://www.noprep.com
X-WR-CALDESC:Events for No Prep Racing
REFRESH-INTERVAL;VALUE=DURATION:PT1H
X-Robots-Tag:noindex
X-PUBLISHED-TTL:PT1H
BEGIN:VTIMEZONE
TZID:America/Chicago
BEGIN:DAYLIGHT
TZOFFSETFROM:-0600
TZOFFSETTO:-0500
TZNAME:CDT
DTSTART:20200308T080000
END:DAYLIGHT
BEGIN:STANDARD
TZOFFSETFROM:-0500
TZOFFSETTO:-0600
TZNAME:CST
DTSTART:20201101T070000
END:STANDARD
BEGIN:DAYLIGHT
TZOFFSETFROM:-0600
TZOFFSETTO:-0500
TZNAME:CDT
DTSTART:20210314T080000
END:DAYLIGHT
BEGIN:STANDARD
TZOFFSETFROM:-0500
TZOFFSETTO:-0600
TZNAME:CST
DTSTART:20211107T070000
END:STANDARD
BEGIN:DAYLIGHT
TZOFFSETFROM:-0600
TZOFFSETTO:-0500
TZNAME:CDT
DTSTART:20220313T080000
END:DAYLIGHT
BEGIN:STANDARD
TZOFFSETFROM:-0500
TZOFFSETTO:-0600
TZNAME:CST
DTSTART:20221106T070000
END:STANDARD
END:VTIMEZONE
BEGIN:VEVENT
DTSTART;VALUE=DATE:20210514
DTEND;VALUE=DATE:20210516
DTSTAMP:20260425T084254
CREATED:20201217T014827Z
LAST-MODIFIED:20201217T015051Z
UID:10000007-1620950400-1621123199@www.noprep.com
SUMMARY:Palmetto No Prep Race #1 Back of the Track Racing in South Carolina!!!!!
DESCRIPTION:Palmetto No Prep is here!!!! This will be the first ever back of the track no prep event held at the legendary Darlington Dragway in Hartsville\, SC!!!!!!\nClasses include:\nSmall Tire (128 Car Max Field)\nBig Tire (32 Car Max Field)\nLate Model Real Street (32 Car Max Field)\nStick Shift (32 Car Max Field)\nMore info coming soon on buy ins and more!!!!!!\nwww.racedarlingtondragway.com\nwww.facebook.com/officialdarlingtondragway
URL:https://www.noprep.com/event/palmetto-no-prep-race-1-back-of-the-track-racing-in-south-carolina/
LOCATION:Darlington Dragway SC\, 2056 E Bobo Newsom Hwy\, Hartsville\, SC\, 29550\, United States
CATEGORIES:No Prep Racing Events
ATTACH;FMTTYPE=image/jpeg:https://www.noprep.com/wp-content/uploads/2020/12/131149670_3805644026168369_6349000978737951996_o-1.jpg
GEO:34.311905;-79.9924692
X-APPLE-STRUCTURED-LOCATION;VALUE=URI;X-ADDRESS=Darlington Dragway SC 2056 E Bobo Newsom Hwy Hartsville SC 29550 United States;X-APPLE-RADIUS=500;X-TITLE=2056 E Bobo Newsom Hwy:geo:-79.9924692,34.311905
END:VEVENT
END:VCALENDAR