BEGIN:VCALENDAR
VERSION:2.0
PRODID:-//No Prep Racing - ECPv6.15.20//NONSGML v1.0//EN
CALSCALE:GREGORIAN
METHOD:PUBLISH
X-WR-CALNAME:No Prep Racing
X-ORIGINAL-URL:https://www.noprep.com
X-WR-CALDESC:Events for No Prep Racing
REFRESH-INTERVAL;VALUE=DURATION:PT1H
X-Robots-Tag:noindex
X-PUBLISHED-TTL:PT1H
BEGIN:VTIMEZONE
TZID:America/Chicago
BEGIN:DAYLIGHT
TZOFFSETFROM:-0600
TZOFFSETTO:-0500
TZNAME:CDT
DTSTART:20230312T080000
END:DAYLIGHT
BEGIN:STANDARD
TZOFFSETFROM:-0500
TZOFFSETTO:-0600
TZNAME:CST
DTSTART:20231105T070000
END:STANDARD
BEGIN:DAYLIGHT
TZOFFSETFROM:-0600
TZOFFSETTO:-0500
TZNAME:CDT
DTSTART:20240310T080000
END:DAYLIGHT
BEGIN:STANDARD
TZOFFSETFROM:-0500
TZOFFSETTO:-0600
TZNAME:CST
DTSTART:20241103T070000
END:STANDARD
BEGIN:DAYLIGHT
TZOFFSETFROM:-0600
TZOFFSETTO:-0500
TZNAME:CDT
DTSTART:20250309T080000
END:DAYLIGHT
BEGIN:STANDARD
TZOFFSETFROM:-0500
TZOFFSETTO:-0600
TZNAME:CST
DTSTART:20251102T070000
END:STANDARD
END:VTIMEZONE
BEGIN:VEVENT
DTSTART;VALUE=DATE:20240322
DTEND;VALUE=DATE:20240324
DTSTAMP:20260421T034912
CREATED:20240311T155013Z
LAST-MODIFIED:20240323T144450Z
UID:10000169-1711065600-1711238399@www.noprep.com
SUMMARY:Dig or Die - Flashlight Fiesta 4
DESCRIPTION:Dig or Die – Flashlight Fiesta 4 \n \nSchedule is as follows and is subject to adjustments. Please be on time and let’s run a smooth race. Share away! \nThursday: gates open 9am until to racers and media that are on the list. You will be allowed to drop your trailers\, camp\, or whatever accommodations you have made. \nFriday: gates open 8 am for racers/media and 12pm spectators. Registration for all classes 12pm till 5pm. 5pm Drivers meeting for Big tire\, Stick Shift\, and Late model\, low budget nitrous. Late model cruise with instructions soon after. 6pm first round Big tire\, Stick Shift\, low budget and late model in that order. \nSaturday: gates open 8am for everyone. Registration for Small tire and Extreme street and hard tire. 8am till 12 pm with drivers meeting 12 pm sharp. Extreme street cruise soon after meeting. First round 1pm small tire with Extreme street and hard tire following. \nDig or Die with Lizzy Musi\nDig or Die – Flashlight Fiesta 4\nMarch 22-23 \nFREE VIP PARKING FOR ALL CARS AND GOLF CARTS ON TOP OF THE HILL BY DIG OR DIE STARTING LINE‼ \n$25 single day entry\n$45 two day entry \n$30 weekend spectator golf cart pass \nRACE CLASSES \nSmall Tire\nBig Tire\nStick Shift\nBudget Nitrous\nExtreme Street\nLate Model Daily\nHard Tire \n$275 RV weekend full hookup. Call 910-582-3400 to reserve your spot. Limited space! \nRace classes and rules: \nBig Tire: Door car\, 29.5s and bigger tire size\n$300 entry $2000 added to the pot. \nSmall Tire: Factory roof\, factory quarters\, 28×10.5 tire limit\, -/+ 1in factory wheel base\n$300 entry $2000 added to the pot \nExtreme Street: factory roof\, factory quarters\, must have all body panels including front end\, hoods are optional working lights\, functional side windows\, optic armor allowed front and back\, must have a dash…aftermarket allowed\, tagged and insurance\, 28×10.5 tire limit\, 40 mile mandatory cruise.\n$200 entry $1000 on top of pot \nHard tire guys you reached out and we hear you! We’re adding a hard tire class to the roster. Same rules as small tire but a dot 200 treadwear tire 275 limit. $1000 on top of the pot. $200 entry. Let em eat! \nLate Model Daily:\n97 and up cars. full factory body\, fiberglass hoods okay\, roll cage okay\, full interior with fully upholstered front seats both…no kirkeys\, rear seat delete allowed\, must have power steering and a/c\, fuel injected engine\, up to date tags and insurance\, factory style suspension\,28×10.5 tire limit. 17s or bigger 315 tire limit. 40 miles mandatory cruise.\n$200 entry $1000 on top \nStick Shift:\nDoor car\, h pattern shifter\, 28×10.5 tire\n$200 entry $1000 on top \nLow budget nitrous: factory body\, full interior\, rear seat delete allowed functional lights and windows\, stock style suspension\, factory production stock block small block\, one kit\, 4an limit feed line nitrous\, exhaust to front of the rear end and beyond\, 28×10.5 limit\n$100 entry $1000 on top \nNo Awd or external weights any class. \nWe reserve the right to inspect cars we feel are not up to rules at any given time during race. Failure to comply will result in DQ. More details to follow so follow the event page.
URL:https://www.noprep.com/event/dig-or-die-flashlight-fiesta-4/
LOCATION:Rockingham Dragway\, United States
CATEGORIES:No Prep Racing Events
ATTACH;FMTTYPE=image/jpeg:https://www.noprep.com/wp-content/uploads/2024/03/432357336_10233621616148154_3586208394050634988_n.jpg
END:VEVENT
END:VCALENDAR