BEGIN:VCALENDAR
VERSION:2.0
PRODID:-//No Prep Racing - ECPv6.15.20//NONSGML v1.0//EN
CALSCALE:GREGORIAN
METHOD:PUBLISH
X-WR-CALNAME:No Prep Racing
X-ORIGINAL-URL:https://www.noprep.com
X-WR-CALDESC:Events for No Prep Racing
REFRESH-INTERVAL;VALUE=DURATION:PT1H
X-Robots-Tag:noindex
X-PUBLISHED-TTL:PT1H
BEGIN:VTIMEZONE
TZID:America/Chicago
BEGIN:DAYLIGHT
TZOFFSETFROM:-0600
TZOFFSETTO:-0500
TZNAME:CDT
DTSTART:20230312T080000
END:DAYLIGHT
BEGIN:STANDARD
TZOFFSETFROM:-0500
TZOFFSETTO:-0600
TZNAME:CST
DTSTART:20231105T070000
END:STANDARD
BEGIN:DAYLIGHT
TZOFFSETFROM:-0600
TZOFFSETTO:-0500
TZNAME:CDT
DTSTART:20240310T080000
END:DAYLIGHT
BEGIN:STANDARD
TZOFFSETFROM:-0500
TZOFFSETTO:-0600
TZNAME:CST
DTSTART:20241103T070000
END:STANDARD
BEGIN:DAYLIGHT
TZOFFSETFROM:-0600
TZOFFSETTO:-0500
TZNAME:CDT
DTSTART:20250309T080000
END:DAYLIGHT
BEGIN:STANDARD
TZOFFSETFROM:-0500
TZOFFSETTO:-0600
TZNAME:CST
DTSTART:20251102T070000
END:STANDARD
END:VTIMEZONE
BEGIN:VEVENT
DTSTART;VALUE=DATE:20240405
DTEND;VALUE=DATE:20240407
DTSTAMP:20260421T034925
CREATED:20240310T202430Z
LAST-MODIFIED:20240403T155232Z
UID:10000168-1712275200-1712447999@www.noprep.com
SUMMARY:No Prep Warz Alabama International Dragway
DESCRIPTION:No Prep Warz Alabama International Dragway \n \n \n\n𝐆𝐄𝐍𝐄𝐑𝐀𝐋 𝐑𝐔𝐋𝐄𝐒 𝐅𝐎𝐑 𝐄𝐀𝐂𝐇 𝐂𝐋𝐀𝐒𝐒:\n1. The racemaster has final say in all calls and discrepancies\n2. All races will be 1/8th mile\, heads up\, .400 Pro Tree\, Courtesy staging and 7 second time-out is in effect\n3. No times will be shown and no time slips will be given except in 6.0 and 7.0 Index classes\n4. Pairings and lane choice will be decided with a chip draw. (6.0 and 7.0 are random pairing 1st and 2nd rounds\, see index rules below)\n5. Each racer can only draw one BYE. Competition byes do not count towards this\n6. Water burnouts only\, racers can burnout past the starting line\n7. Crossing the center line will result in disqualification unless its past the finish line\n8. All cars must pass track safety inspection and meet the class rules outlined on the next page. Driver is required to wear all required safety gear\, according to track policies. Track staff will have final say on safety inspection and must sign off on the tech card before a racer makes a pass down the track\n9. Engine diapers mandatory for all classes\n10. All cars must have IHRA or NHRA chassis certification\n\n\n𝐁𝐈𝐆 𝐓𝐈𝐑𝐄 𝐀𝐋𝐋-𝐒𝐓𝐀𝐑𝐒: TBA\n\n\n𝐒𝐌𝐀𝐋𝐋 𝐓𝐈𝐑𝐄:\n• 28×10.5 non-w or 275 radial MAX tire size (Smaller tires ok)\n• Factory VIN for year/make/model\, must have steel quarters (bed sides) and steel roof (OEM Corvette fiberglass OK)\n• All entries must maintain the factory wheelbase\, plus or minus (+ or -) 2 inches maximum\, and an overall OEM factory style and external/outwardly appearance of year\, make\, and model being represented. Maximum of 45” of overhang is permitted. An extended beam-tripper is permitted and can achieve a maximum 45” overhang measured from center of the front spindle to front edge of the beam-tripper. Beam-tripper must maintain 3” minimum ground clearance\n• No wheelie bars\n• In order to participate in Friday’s Cash Days\, you must be entered in the event\n\n\nFriday: Small Tire Cash Days $100 Entry with 100% payback\n\n\nSaturday: $250.00 Entry with a $10\,000.00 guaranteed purse\n\n\n𝐎𝐔𝐓𝐋𝐀𝐖 𝐁𝐈𝐆 𝐓𝐈𝐑𝐄:\n• Run what ya brung\n\n\nFriday: Grudge Races\n\n\nSaturday: $200.00 Entry with a $3\,000.00 guaranteed purse (1st round losers in Big Tire All-Stars get a free entry into Outlaw Big Tire)\n\n\n𝟔.𝟎 𝐈𝐍𝐃𝐄𝐗:\n• Door cars only\n• No optical sensors\, or gps assisted timing controllers\n• Electric or pneumatic throttle stops are permitted\n• Delay boxes are permitted\n• Electric or air shifters are permitted\n• In order to participate in Friday’s Gambler’s race\, you must be entered in the event\n\n\nFriday: Gambler’s race $100 Entry with 100% payback on entry. 1st round buybacks $50 (Random pairings 1st and 2nd rounds\, 3rd round to finals will be a chip draw)\n\n\nSaturday: $100.00 Entry (Free with current IHRA Membership) $2\,000.00 guaranteed purse. 1st round buybacks $50 (Random pairings 1st and 2nd rounds\, 3rd round to finals will be a chip draw)\n\n\n𝟕.𝟎 𝐈𝐍𝐃𝐄𝐗:\n• Door cars only\n• No optical sensors\, or gps assisted timing controllers\n• Electric or pneumatic throttle stops are permitted\n• Delay boxes are permitted\n• Electric or air shifters are permitted\n• In order to participate in Friday’s Gambler’s race\, you must be entered in the event\n\n\nFriday: Gambler’s race $100 Entry with 100% payback on entry. 1st round buybacks $50 (Random pairings 1st and 2nd rounds\, 3rd round to finals will be a chip draw)\n\n\nSaturday: $100.00 Entry (Free with current IHRA Membership) $2\,000.00 guaranteed purse. 1st round buybacks $50 (Random pairings 1st and 2nd rounds\, 3rd round to finals will be a chip draw)\n\n\n𝐃𝐀𝐈𝐋𝐘 𝐃𝐑𝐈𝐕𝐄𝐑:\n• Must be tagged\, titled\, insured and owned by the driver\n• Factory glass\, body panels\, and frame (fiberglass hood ok)\n• Full interior (no missing parts). Added safety items are ok. No race seats\n• Factory style suspension. Bolt-in parts ok\n• Trans-brakes not permitted\n• No slicks\, No Drag Radials\, tires must be DOT-rated with minimum 200 Treadwear rating\n• In order to participate in Friday’s Gambler’s race\, you must be entered in the event\n\n\nFriday: Gambler’s race $50 Entry with 100% payback on entry. 1st round buybacks $25 (Random pairings 1st and 2nd rounds\, 3rd round to finals will be a chip draw)\n\n\nSaturday: $75.00 Entry (Free with current IHRA Membership) $500.00 guaranteed purse. 1st round buybacks $25 (Random pairings 1st and 2nd rounds\, 3rd round to finals will be a chip draw)\n\n\n𝐐𝐮𝐞𝐬𝐭𝐢𝐨𝐧𝐬 𝐨𝐫 𝐬𝐮𝐠𝐠𝐞𝐬𝐭𝐢𝐨𝐧𝐬 𝐞𝐦𝐚𝐢𝐥 𝐮𝐬 𝐚𝐭 𝐧𝐨𝐩𝐫𝐞𝐩𝐰𝐚𝐫𝐳@𝐠𝐦𝐚𝐢𝐥.𝐜𝐨𝐦
URL:https://www.noprep.com/event/no-prep-warz-alabama-international-dragway/
LOCATION:Alabama International Dragway\, Steele Station Rd\, Steele\, AL\, 35987\, United States
CATEGORIES:No Prep Racing Events
ATTACH;FMTTYPE=image/jpeg:https://www.noprep.com/wp-content/uploads/2024/03/429571455_122128817324149373_6691141349531339395_n.jpg
GEO:33.9258125;-86.1986875
X-APPLE-STRUCTURED-LOCATION;VALUE=URI;X-ADDRESS=Alabama International Dragway Steele Station Rd Steele AL 35987 United States;X-APPLE-RADIUS=500;X-TITLE=Steele Station Rd:geo:-86.1986875,33.9258125
END:VEVENT
END:VCALENDAR