BEGIN:VCALENDAR
VERSION:2.0
PRODID:-//No Prep Racing - ECPv6.15.20//NONSGML v1.0//EN
CALSCALE:GREGORIAN
METHOD:PUBLISH
X-ORIGINAL-URL:https://www.noprep.com
X-WR-CALDESC:Events for No Prep Racing
REFRESH-INTERVAL;VALUE=DURATION:PT1H
X-Robots-Tag:noindex
X-PUBLISHED-TTL:PT1H
BEGIN:VTIMEZONE
TZID:America/Chicago
BEGIN:DAYLIGHT
TZOFFSETFROM:-0600
TZOFFSETTO:-0500
TZNAME:CDT
DTSTART:20240310T080000
END:DAYLIGHT
BEGIN:STANDARD
TZOFFSETFROM:-0500
TZOFFSETTO:-0600
TZNAME:CST
DTSTART:20241103T070000
END:STANDARD
BEGIN:DAYLIGHT
TZOFFSETFROM:-0600
TZOFFSETTO:-0500
TZNAME:CDT
DTSTART:20250309T080000
END:DAYLIGHT
BEGIN:STANDARD
TZOFFSETFROM:-0500
TZOFFSETTO:-0600
TZNAME:CST
DTSTART:20251102T070000
END:STANDARD
BEGIN:DAYLIGHT
TZOFFSETFROM:-0600
TZOFFSETTO:-0500
TZNAME:CDT
DTSTART:20260308T080000
END:DAYLIGHT
BEGIN:STANDARD
TZOFFSETFROM:-0500
TZOFFSETTO:-0600
TZNAME:CST
DTSTART:20261101T070000
END:STANDARD
END:VTIMEZONE
BEGIN:VEVENT
DTSTART;VALUE=DATE:20251024
DTEND;VALUE=DATE:20251026
DTSTAMP:20260419T123321
CREATED:20251014T152339Z
LAST-MODIFIED:20251015T143755Z
UID:10000218-1761264000-1761436799@www.noprep.com
SUMMARY:Street Car Takeover - SCT Nashville SuperSpeedWay
DESCRIPTION:ALL KILL\, NO CHILL: OCTOBER 24TH-25TH!\nStreet Car Takeover at Nashville Super Speedway\, featuring B.J. Flagman and myself on the pit road\, with a GUARANTEED $30K for Small Tire. What more could you ask for?\n\n\nSTREET/BACKSIDE MUTTS\, IT’S YOUR TIME TO SHINE! \nThis event will take place on pit road\, which features four classes:\n\n\n– N/A Class\n– Daily Driver\n– Street Car\n– Small Tire
URL:https://www.noprep.com/event/street-car-takeover-sct-nashville-superspeedway/
LOCATION:Nashville SuperSpeedWay\, 4847 McCrary Rd f\, Lebanon\, TN\, 37090\, United States
CATEGORIES:No Prep Racing Events,Street Car Takeover
ATTACH;FMTTYPE=image/jpeg:https://www.noprep.com/wp-content/uploads/2025/10/559681736_1341681633989402_7812922187124198349_n.jpg
GEO:36.0467151;-86.4173926
X-APPLE-STRUCTURED-LOCATION;VALUE=URI;X-ADDRESS=Nashville SuperSpeedWay 4847 McCrary Rd f Lebanon TN 37090 United States;X-APPLE-RADIUS=500;X-TITLE=4847 McCrary Rd f:geo:-86.4173926,36.0467151
END:VEVENT
END:VCALENDAR