BEGIN:VCALENDAR
VERSION:2.0
PRODID:-//No Prep Racing - ECPv6.15.20//NONSGML v1.0//EN
CALSCALE:GREGORIAN
METHOD:PUBLISH
X-WR-CALNAME:No Prep Racing
X-ORIGINAL-URL:https://www.noprep.com
X-WR-CALDESC:Events for No Prep Racing
REFRESH-INTERVAL;VALUE=DURATION:PT1H
X-Robots-Tag:noindex
X-PUBLISHED-TTL:PT1H
BEGIN:VTIMEZONE
TZID:America/Chicago
BEGIN:DAYLIGHT
TZOFFSETFROM:-0600
TZOFFSETTO:-0500
TZNAME:CDT
DTSTART:20250309T080000
END:DAYLIGHT
BEGIN:STANDARD
TZOFFSETFROM:-0500
TZOFFSETTO:-0600
TZNAME:CST
DTSTART:20251102T070000
END:STANDARD
BEGIN:DAYLIGHT
TZOFFSETFROM:-0600
TZOFFSETTO:-0500
TZNAME:CDT
DTSTART:20260308T080000
END:DAYLIGHT
BEGIN:STANDARD
TZOFFSETFROM:-0500
TZOFFSETTO:-0600
TZNAME:CST
DTSTART:20261101T070000
END:STANDARD
BEGIN:DAYLIGHT
TZOFFSETFROM:-0600
TZOFFSETTO:-0500
TZNAME:CDT
DTSTART:20270314T080000
END:DAYLIGHT
BEGIN:STANDARD
TZOFFSETFROM:-0500
TZOFFSETTO:-0600
TZNAME:CST
DTSTART:20271107T070000
END:STANDARD
END:VTIMEZONE
BEGIN:VEVENT
DTSTART;VALUE=DATE:20260306
DTEND;VALUE=DATE:20260308
DTSTAMP:20260419T225507
CREATED:20260305T161304Z
LAST-MODIFIED:20260305T161316Z
UID:10000223-1772755200-1772927999@www.noprep.com
SUMMARY:JUST SEND IT 2.0 252 NO PREP RACING
DESCRIPTION:These are the rules that will be used for all events please pay attention to them.\n\n\nBIG TIRE\n• Door cars\n• 29.5”+ tire\n• AWD allowed — AWD/4WD must run 28×10.5 or smaller\n• $300 entry | +$1\,000\n\n\nSMALL TIRE\n• Factory roof & quarters\n• 28×10.5 max\n• ±1” factory wheelbase\n• No wheelie bars\n• $300 entry | +$1\,000\n\n\nEXTREME STREET\n• Factory roof & quarters\n• All body panels (hood optional)\n• Working lights\, cooling & charging\n• Functional side windows (optic armor OK)\n• Dash required (aftermarket OK)\n• Tagged & insured\n• 28×10.5 tire limit\n• Mandatory 40-mile cruise\n• $200 entry | +$1\,000\n\n\n26” TIRE\n• Same rules as Small Tire\n• 26×8.5 max\n• $200 entry | +$1\,000\n\n\nLATE MODEL DAILY\n• Full factory body (fiberglass hood OK)\n• Roll cage OK\n• Full interior w/ upholstered front seats (no Kirkeys)\n• Rear seat delete OK\n• Power steering & A/C required\n• Fuel-injected\n• Cooling & charging required\n• Tagged & insured\n• Factory-style suspension\n• Tires: 28×10.5 max OR 17″+ wheel w/ 315 max\n• Mandatory 40-mile cruise\n• $200 entry | +$1\,000\n\n\nSTICK SHIFT\n• Door car\n• H-pattern shifter\n• 28×10.5 tire\n• $200 entry | +$1\,000\n\n\nLOW BUDGET NITROUS\n• Factory body\n• Full interior (rear delete OK)\n• Functional lights & windows\n• Stock-style suspension\n• Stock-block small-block\n• One nitrous kit\, 4AN max line\n• Exhaust must exit halfway down car\n• 28×10.5 max\n• $150 entry | +$500\n\n\n—\n\n\n GENERAL RULES\n• No AWD (except Big Tire)\n• No external weight\n• Tech may inspect any car at any time — refusal = DQ
URL:https://www.noprep.com/event/just-send-it-2-0-252-no-prep-racing/
LOCATION:Coastal Plains Dragway\, 4744 Richlands Hwy\, Jacksonville\, NC\, 28540\, United States
CATEGORIES:No Prep Racing Events
ATTACH;FMTTYPE=image/jpeg:https://www.noprep.com/wp-content/uploads/2026/03/646285785_945351688074818_7956964934149916207_n.jpg
GEO:34.804971;-77.5049862
X-APPLE-STRUCTURED-LOCATION;VALUE=URI;X-ADDRESS=Coastal Plains Dragway 4744 Richlands Hwy Jacksonville NC 28540 United States;X-APPLE-RADIUS=500;X-TITLE=4744 Richlands Hwy:geo:-77.5049862,34.804971
END:VEVENT
BEGIN:VEVENT
DTSTART;VALUE=DATE:20260307
DTEND;VALUE=DATE:20260308
DTSTAMP:20260419T225507
CREATED:20260306T164409Z
LAST-MODIFIED:20260306T165801Z
UID:10000224-1772841600-1772927999@www.noprep.com
SUMMARY:Backside Brawl #1 at Mid America Dragway
DESCRIPTION:Backside no prep racing is back at MAD!All racers must purchase $40 tech card per class!spectators and crew $15 a person kids 16 and under free!limited VIP parking available $30ea (doesn’t include spectator entry)\n*Small Tire +$1200 in sponsor money added on top!-$200 buy in 100% payback-factory roof and quarters-28×10.5 non w or 275 drag radial-must start from inside the car\n*Outlaw Street +$950 in sponsor money added on top!-$125 buy in 100% payback-current tags and insurance-28×10.5 non w or 275 radial-all glass no lexan-must have dash\,carpet and door pannels-windows must roll up and down-back seat delete ok-working charging system and cooling system-all working lights and blinkers-no fiberglass or carbon body panels but hood\, deck and bumpers\n*Hot Rod +$450 in sponsor money added on top!-$100 BUY IN 100% PAYBACK– engine swaps ok-factory interior (raceseats and cage ok)-must have door panles\, carpet\, stock dash that must appear stock as possible.-only aftermarket body parts allowed is hood-all glass no lexan-must have wipers-single power adder-must drive into the track-Dot radial 275 or smaller unless factory size was larger\n*Tailgate +$450 in sponsor money added on top!$150 BUY IN 100% PAYBACK28 OR 275 RADIAL (slick or radial)\nMODERN MUSCLE +$450 in sponsor money added on top!2008 & newer-$100 buy in 100% payback– NO DRAG CARS- must be full interior-must be driven to the track– full factory amenities(clarification we missed the tire rule its open for this event will be fixed next time)\nNA classdoor carna no power adders28×10.5 or smaller$100 buy in\nWORKING ON ADDED MONEY FOR EACH CLASS
URL:https://www.noprep.com/event/backside-brawl-1-at-mid-america-dragway/
LOCATION:Mid America Dragway\, 1823 E 160th Street South\, Geuda Springs\, KS\, 67051\, United States
CATEGORIES:No Prep Racing Events
ATTACH;FMTTYPE=image/jpeg:https://www.noprep.com/wp-content/uploads/2026/03/600336370_1497164669075421_4714400129040646039_n.jpg
GEO:37.0565669;-97.1576376
X-APPLE-STRUCTURED-LOCATION;VALUE=URI;X-ADDRESS=Mid America Dragway 1823 E 160th Street South Geuda Springs KS 67051 United States;X-APPLE-RADIUS=500;X-TITLE=1823 E 160th Street South:geo:-97.1576376,37.0565669
END:VEVENT
END:VCALENDAR