BEGIN:VCALENDAR
VERSION:2.0
PRODID:-//No Prep Racing - ECPv6.15.20//NONSGML v1.0//EN
CALSCALE:GREGORIAN
METHOD:PUBLISH
X-WR-CALNAME:No Prep Racing
X-ORIGINAL-URL:https://www.noprep.com
X-WR-CALDESC:Events for No Prep Racing
REFRESH-INTERVAL;VALUE=DURATION:PT1H
X-Robots-Tag:noindex
X-PUBLISHED-TTL:PT1H
BEGIN:VTIMEZONE
TZID:America/Chicago
BEGIN:DAYLIGHT
TZOFFSETFROM:-0600
TZOFFSETTO:-0500
TZNAME:CDT
DTSTART:20250309T080000
END:DAYLIGHT
BEGIN:STANDARD
TZOFFSETFROM:-0500
TZOFFSETTO:-0600
TZNAME:CST
DTSTART:20251102T070000
END:STANDARD
BEGIN:DAYLIGHT
TZOFFSETFROM:-0600
TZOFFSETTO:-0500
TZNAME:CDT
DTSTART:20260308T080000
END:DAYLIGHT
BEGIN:STANDARD
TZOFFSETFROM:-0500
TZOFFSETTO:-0600
TZNAME:CST
DTSTART:20261101T070000
END:STANDARD
BEGIN:DAYLIGHT
TZOFFSETFROM:-0600
TZOFFSETTO:-0500
TZNAME:CDT
DTSTART:20270314T080000
END:DAYLIGHT
BEGIN:STANDARD
TZOFFSETFROM:-0500
TZOFFSETTO:-0600
TZNAME:CST
DTSTART:20271107T070000
END:STANDARD
END:VTIMEZONE
BEGIN:VEVENT
DTSTART;VALUE=DATE:20260307
DTEND;VALUE=DATE:20260308
DTSTAMP:20260419T182215
CREATED:20260306T164409Z
LAST-MODIFIED:20260306T165801Z
UID:10000224-1772841600-1772927999@www.noprep.com
SUMMARY:Backside Brawl #1 at Mid America Dragway
DESCRIPTION:Backside no prep racing is back at MAD!All racers must purchase $40 tech card per class!spectators and crew $15 a person kids 16 and under free!limited VIP parking available $30ea (doesn’t include spectator entry)\n*Small Tire +$1200 in sponsor money added on top!-$200 buy in 100% payback-factory roof and quarters-28×10.5 non w or 275 drag radial-must start from inside the car\n*Outlaw Street +$950 in sponsor money added on top!-$125 buy in 100% payback-current tags and insurance-28×10.5 non w or 275 radial-all glass no lexan-must have dash\,carpet and door pannels-windows must roll up and down-back seat delete ok-working charging system and cooling system-all working lights and blinkers-no fiberglass or carbon body panels but hood\, deck and bumpers\n*Hot Rod +$450 in sponsor money added on top!-$100 BUY IN 100% PAYBACK– engine swaps ok-factory interior (raceseats and cage ok)-must have door panles\, carpet\, stock dash that must appear stock as possible.-only aftermarket body parts allowed is hood-all glass no lexan-must have wipers-single power adder-must drive into the track-Dot radial 275 or smaller unless factory size was larger\n*Tailgate +$450 in sponsor money added on top!$150 BUY IN 100% PAYBACK28 OR 275 RADIAL (slick or radial)\nMODERN MUSCLE +$450 in sponsor money added on top!2008 & newer-$100 buy in 100% payback– NO DRAG CARS- must be full interior-must be driven to the track– full factory amenities(clarification we missed the tire rule its open for this event will be fixed next time)\nNA classdoor carna no power adders28×10.5 or smaller$100 buy in\nWORKING ON ADDED MONEY FOR EACH CLASS
URL:https://www.noprep.com/event/backside-brawl-1-at-mid-america-dragway/
LOCATION:Mid America Dragway\, 1823 E 160th Street South\, Geuda Springs\, KS\, 67051\, United States
CATEGORIES:No Prep Racing Events
ATTACH;FMTTYPE=image/jpeg:https://www.noprep.com/wp-content/uploads/2026/03/600336370_1497164669075421_4714400129040646039_n.jpg
GEO:37.0565669;-97.1576376
X-APPLE-STRUCTURED-LOCATION;VALUE=URI;X-ADDRESS=Mid America Dragway 1823 E 160th Street South Geuda Springs KS 67051 United States;X-APPLE-RADIUS=500;X-TITLE=1823 E 160th Street South:geo:-97.1576376,37.0565669
END:VEVENT
BEGIN:VEVENT
DTSTART;VALUE=DATE:20260327
DTEND;VALUE=DATE:20260329
DTSTAMP:20260419T182215
CREATED:20260211T165242Z
LAST-MODIFIED:20260304T200658Z
UID:10000222-1774569600-1774742399@www.noprep.com
SUMMARY:Bounty Hunters 10 No Prep Nationals
DESCRIPTION:No Prep’s largest annual season-opening event is back in 2026 for it’s 10th running! Project X Promotions has once again teamed up with Penwell Knights Raceway in Odessa\, Texas to bring back one of the biggest racing events ever to hit West Texas.\nLIL GANGSTAS CLASS\nCome out and join us as no-prep racing’s raising stars battle it out on March 27-28\, 2026t! As always\, kids 12 & under are FREE!\nTickets:Friday- $20Saturday- $30Weekend Pass- $40VIP Pass- $40 additional to ticketKids 12 & under FREEParking:Pit Side- $20/daySpectator Side- Free\nClasses and Payouts:To Be Announced
URL:https://www.noprep.com/event/bounty-hunters-10-no-prep-nationals/
LOCATION:Penwell Knights Raceway at Caprock Motorplex\, 326 FM 1601\, Odessa\, TX\, 79776\, United States
CATEGORIES:No Prep Racing Events
ATTACH;FMTTYPE=image/jpeg:https://www.noprep.com/wp-content/uploads/2026/02/633735685_1561457851577552_4307751449164949570_n.jpg
GEO:31.7365184;-102.5910426
X-APPLE-STRUCTURED-LOCATION;VALUE=URI;X-ADDRESS=Penwell Knights Raceway at Caprock Motorplex 326 FM 1601 Odessa TX 79776 United States;X-APPLE-RADIUS=500;X-TITLE=326 FM 1601:geo:-102.5910426,31.7365184
END:VEVENT
BEGIN:VEVENT
DTSTART;VALUE=DATE:20260703
DTEND;VALUE=DATE:20260705
DTSTAMP:20260419T182215
CREATED:20260311T151610Z
LAST-MODIFIED:20260311T151623Z
UID:10000225-1783036800-1783209599@www.noprep.com
SUMMARY:FREEDOM OF WAR NO PREP
DESCRIPTION:LOCK-IN IS OFFICIALLY LIVE! \n\n\nThe Freedom of War  Small Tire Race is coming and we’re putting up a massive $150\,000 GUARANTEED PAYOUT! \n\n\nIf you’re planning to run\, don’t wait. Once these spots are gone\, they’re gone.\n Lock in here:\nwww.waraceway.com/freedom-of-war\n\n\n SMALL TIRE – $150\,000 GUARANTEED\nOFF THE TRAILER\n\n\n Entry: $1\,000\n $200 Non-Refundable Deposit Locks Your Spot\n\n\n• 64 Cars – First Come\, First Served\n• 16 Cars on Standby (Refundable Deposit)\n• $50 Tech Card\n\n\nThere will be a 2nd Chance Small Tire Race Saturday !\nBuy In $300\n\n\nSmall Tire Rules\n\n\n• 28×10.5 Non-W\n• Steel roof & quarters required (unless factory different like convertibles)\n• Must start from the driver’s seat\n• Must be a door car\n• Driveshaft safety loop required\n• No added weight past rear bumper\n• No wheelie bars\n• Engine diaper or belly pan preferred\n\n\n THIS RACE WILL SELL OUT.\n\n\nLock your spot in now before the 64 spots are gone.\n\n\n www.waraceway.com/freedom-of-war\n\n\n#FreedomOfWar #SmallTire #DragRacing #WarRaceway #LockIn
URL:https://www.noprep.com/event/freedom-of-war-no-prep/
LOCATION:Westx Abilene Raceway\, 5601 W. Stamford St\, Abilene\, TX\, 79603\, United States
CATEGORIES:No Prep Racing Events
ATTACH;FMTTYPE=image/jpeg:https://www.noprep.com/wp-content/uploads/2026/03/649659210_1544390290818696_2876725969930771922_n.jpg
GEO:32.4736959;-99.7963191
X-APPLE-STRUCTURED-LOCATION;VALUE=URI;X-ADDRESS=Westx Abilene Raceway 5601 W. Stamford St Abilene TX 79603 United States;X-APPLE-RADIUS=500;X-TITLE=5601 W. Stamford St:geo:-99.7963191,32.4736959
END:VEVENT
BEGIN:VEVENT
DTSTART;VALUE=DATE:20260829
DTEND;VALUE=DATE:20260830
DTSTAMP:20260419T182215
CREATED:20260211T163147Z
LAST-MODIFIED:20260211T163155Z
UID:10000220-1787961600-1788047999@www.noprep.com
SUMMARY:THE HUSTLE FRONTSIDE NO PREP AT THE ROCK
DESCRIPTION:THE HUSTLE FRONTSIDE NO PREP AT THE ROCK
URL:https://www.noprep.com/event/the-hustle-frontside-no-prep-at-the-rock/
LOCATION:Rockingham Dragway\, United States
CATEGORIES:No Prep Racing Events
ATTACH;FMTTYPE=image/jpeg:https://www.noprep.com/wp-content/uploads/2026/02/633684482_1317033473795785_4853026313304548294_n.jpg
END:VEVENT
END:VCALENDAR