BEGIN:VCALENDAR
VERSION:2.0
PRODID:-//No Prep Racing - ECPv6.15.20//NONSGML v1.0//EN
CALSCALE:GREGORIAN
METHOD:PUBLISH
X-WR-CALNAME:No Prep Racing
X-ORIGINAL-URL:https://www.noprep.com
X-WR-CALDESC:Events for No Prep Racing
REFRESH-INTERVAL;VALUE=DURATION:PT1H
X-Robots-Tag:noindex
X-PUBLISHED-TTL:PT1H
BEGIN:VTIMEZONE
TZID:America/Indiana/Indianapolis
BEGIN:DAYLIGHT
TZOFFSETFROM:-0500
TZOFFSETTO:-0400
TZNAME:EDT
DTSTART:20200308T070000
END:DAYLIGHT
BEGIN:STANDARD
TZOFFSETFROM:-0400
TZOFFSETTO:-0500
TZNAME:EST
DTSTART:20201101T060000
END:STANDARD
BEGIN:DAYLIGHT
TZOFFSETFROM:-0500
TZOFFSETTO:-0400
TZNAME:EDT
DTSTART:20210314T070000
END:DAYLIGHT
BEGIN:STANDARD
TZOFFSETFROM:-0400
TZOFFSETTO:-0500
TZNAME:EST
DTSTART:20211107T060000
END:STANDARD
BEGIN:DAYLIGHT
TZOFFSETFROM:-0500
TZOFFSETTO:-0400
TZNAME:EDT
DTSTART:20220313T070000
END:DAYLIGHT
BEGIN:STANDARD
TZOFFSETFROM:-0400
TZOFFSETTO:-0500
TZNAME:EST
DTSTART:20221106T060000
END:STANDARD
END:VTIMEZONE
BEGIN:VTIMEZONE
TZID:America/Chicago
BEGIN:DAYLIGHT
TZOFFSETFROM:-0600
TZOFFSETTO:-0500
TZNAME:CDT
DTSTART:20200308T080000
END:DAYLIGHT
BEGIN:STANDARD
TZOFFSETFROM:-0500
TZOFFSETTO:-0600
TZNAME:CST
DTSTART:20201101T070000
END:STANDARD
BEGIN:DAYLIGHT
TZOFFSETFROM:-0600
TZOFFSETTO:-0500
TZNAME:CDT
DTSTART:20210314T080000
END:DAYLIGHT
BEGIN:STANDARD
TZOFFSETFROM:-0500
TZOFFSETTO:-0600
TZNAME:CST
DTSTART:20211107T070000
END:STANDARD
BEGIN:DAYLIGHT
TZOFFSETFROM:-0600
TZOFFSETTO:-0500
TZNAME:CDT
DTSTART:20220313T080000
END:DAYLIGHT
BEGIN:STANDARD
TZOFFSETFROM:-0500
TZOFFSETTO:-0600
TZNAME:CST
DTSTART:20221106T070000
END:STANDARD
END:VTIMEZONE
BEGIN:VEVENT
DTSTART;VALUE=DATE:20210410
DTEND;VALUE=DATE:20210411
DTSTAMP:20260425T083615
CREATED:20210204T152619Z
LAST-MODIFIED:20210204T161141Z
UID:10000021-1618012800-1618099199@www.noprep.com
SUMMARY:T-N-T Performance Vs FSi Racing Presents The No Prep Team Shootout!
DESCRIPTION:2021 Team Shootout will be bringing all the action you can pack in a fun team style competition! Classes Will Be Big Tire\, Small Tire\, Mod Muscle\, and Grocery Getter\, and a wild card car. Wild card can be any of the other 4 classes\, IE a Big tire or small or the other two. Team points will be accumulated and tallied to determine an overall winner! Payouts will be paid to the winning team\, and not the individual winner of each class. Team Entries will be $500 for your team\, $100 per car. At 16 teams payout will be $6500 min\, and go up from there. Will cap at 32 teams because of size of the event. \nBig Tire\nAll out RWYB. Must Be a door car. No tire rules\, Bring your fastest door car and hope you brought enough. No cooling system required but be ready for short turnarounds if need be! \nSmall Tire\n-28×10.5 (Non W) or 275/60R15 D.O.T. Drag Radial \n-Factory style front suspension. \n-No wheelie bars. \n-Must have cooling system and charging system \n-Steel roof and quarters. \n-Must have working headlights and tail lights \n-AWD or 4wd allowed on a 200min TW Rated Tire \nMod Muscle \n1996 and Newer Muscle Cars \nWith Power steering\, and Cooling Charging System \nAny transmission combo no transbrake. \nInterior must have 2 front seats\, stock style interior no gutted setups. \nRwd cars limited to 275-60-15 DOT Approved Tire 17″ and large wheel open tire size. \nAWD Cars and Trucks Must Run On a Minimum 200TW Tire. \nPower adders is one combo twin turbo ok\, no mixing cant have Nitrous and Turbo etc. \nMust have stock street vehicle appearance\, No lexan except rear window on pickups. \nExhaust must exit at minimum behind driver seat. \nGrocery Getter \n•Car must appear in every aspect the way it did from factory. Including Interior(aftermarket gauges ok)and suspension. \n•Must be registered and tagged. \n•Single type power adder only. \n*Any transmission allowed but no transbrakes. \n*Exhaust must exit at minimum behind drivers seat. \n•All steel body(unless factory equipped) except hood. \n•ALL TIRE MUST BE DOT APPROVED \n•Max tire on 15 is 275 or 28 10.5 bias \n•Max tire on 17 or bigger wheel is 295 \n•AWD must have 200 or greater treadwear \nAll teams must submit team members names and classes except for wildcard team member can be left secret. Once those are set they can be adjusted up until day before event. After that no altering team. Lock ins will be available at $100 with remaining $400 paid by cash at the event that day! Lockins are appreciated to get a idea of upcoming turnout. Will be either paid to Bunker Hill dragway or to a paypal to be determined. \nHope to see you all and your team April 10 2021!
URL:https://www.noprep.com/event/t-n-t-performance-vs-fsi-racing-presents-the-no-prep-team-shootout/
LOCATION:Bunker Hill Dragway\, 1512 W 900 S\, Bunker Hill\, IN\, 46914\, United States
CATEGORIES:No Prep Racing Events
ATTACH;FMTTYPE=image/jpeg:https://www.noprep.com/wp-content/uploads/2021/02/142797933_10164509018595702_7294803575906292071_n.jpg
GEO:40.638576;-86.100319
X-APPLE-STRUCTURED-LOCATION;VALUE=URI;X-ADDRESS=Bunker Hill Dragway 1512 W 900 S Bunker Hill IN 46914 United States;X-APPLE-RADIUS=500;X-TITLE=1512 W 900 S:geo:-86.100319,40.638576
END:VEVENT
BEGIN:VEVENT
DTSTART;VALUE=DATE:20210424
DTEND;VALUE=DATE:20210426
DTSTAMP:20260425T083615
CREATED:20201226T034945Z
LAST-MODIFIED:20201226T034956Z
UID:10000005-1619222400-1619395199@www.noprep.com
SUMMARY:DARREN MORGAN MONKEYSHINE NO PREP MEMORIAL RACE #2
DESCRIPTION:DARREN MORGAN MONKEYSHINE\n NO PREP MEMORIAL RACE #2 APRIL 24TH & 25TH 2021\nGAURANTEED PURSES!!!!!!!!\nB I G T I R E…………………7500 TO WIN\nS M A L L T I R E…………7500 TO WIN\nRACERS  YOU WANT THIS  PURSE HIGHER?\nANYONE OF YOU THAT CAN GET SPONSOR MONEY  IT WILL BE  100% ADDEDa
URL:https://www.noprep.com/event/darren-morgan-monkeyshine-no-prep-memorial-race-2/
LOCATION:Kansas International Dragway\, 7800 W 61st St N\, Maize\, KS\, 67101\, United States
CATEGORIES:No Prep Racing Events
ATTACH;FMTTYPE=image/jpeg:https://www.noprep.com/wp-content/uploads/2020/12/103440119_3555052007862837_1244798755870226905_n.jpg
GEO:37.796626;-97.4370792
X-APPLE-STRUCTURED-LOCATION;VALUE=URI;X-ADDRESS=Kansas International Dragway 7800 W 61st St N Maize KS 67101 United States;X-APPLE-RADIUS=500;X-TITLE=7800 W 61st St N:geo:-97.4370792,37.796626
END:VEVENT
END:VCALENDAR