BEGIN:VCALENDAR
VERSION:2.0
PRODID:-//No Prep Racing - ECPv6.15.20//NONSGML v1.0//EN
CALSCALE:GREGORIAN
METHOD:PUBLISH
X-WR-CALNAME:No Prep Racing
X-ORIGINAL-URL:https://www.noprep.com
X-WR-CALDESC:Events for No Prep Racing
REFRESH-INTERVAL;VALUE=DURATION:PT1H
X-Robots-Tag:noindex
X-PUBLISHED-TTL:PT1H
BEGIN:VTIMEZONE
TZID:America/Chicago
BEGIN:DAYLIGHT
TZOFFSETFROM:-0600
TZOFFSETTO:-0500
TZNAME:CDT
DTSTART:20200308T080000
END:DAYLIGHT
BEGIN:STANDARD
TZOFFSETFROM:-0500
TZOFFSETTO:-0600
TZNAME:CST
DTSTART:20201101T070000
END:STANDARD
BEGIN:DAYLIGHT
TZOFFSETFROM:-0600
TZOFFSETTO:-0500
TZNAME:CDT
DTSTART:20210314T080000
END:DAYLIGHT
BEGIN:STANDARD
TZOFFSETFROM:-0500
TZOFFSETTO:-0600
TZNAME:CST
DTSTART:20211107T070000
END:STANDARD
BEGIN:DAYLIGHT
TZOFFSETFROM:-0600
TZOFFSETTO:-0500
TZNAME:CDT
DTSTART:20220313T080000
END:DAYLIGHT
BEGIN:STANDARD
TZOFFSETFROM:-0500
TZOFFSETTO:-0600
TZNAME:CST
DTSTART:20221106T070000
END:STANDARD
END:VTIMEZONE
BEGIN:VEVENT
DTSTART;VALUE=DATE:20210716
DTEND;VALUE=DATE:20210718
DTSTAMP:20260423T081417
CREATED:20210628T170222Z
LAST-MODIFIED:20221012T161432Z
UID:10000002-1626393600-1626566399@www.noprep.com
SUMMARY:Real Street Takeover MKE 2021
DESCRIPTION:MKE 7/16/21-7/17/21 Classes and Rules!\n\n\nAll classes are flashlight start\, water burnout\, CHASE IS NOT A RACE. Lock in prices for each class are due in FULL at time of lock ins. LOCK INS OPEN 6/21/21. We are welcoming sponsors\, please reach out for more info. All classes are 80/20 split. Sponsor money will be split up amongst classes unless specific class requested from sponsor. We will update accordingly with times that the gate will open both days. Can you race Friday night and Saturday night in different classes? Yes you can. Lock ins will include admission for driver plus 1 as all previous MKE events.\n\n\nPLEASE. PLEASE. PLEASE. PLEASE. read the rules before you send lock in. If you have any questions\, please ask me prior to sending lock in.\n\n\nPayPal info: mkotas18@yahoo.com\n\n\nFRIENDS AND FAMILY ONLY. I haven’t said anything in the past about people sending as goods and services. I will refund you and have you send it back friends and family.\n\n\nSpectator admission prices can be found at :\n\n\nhttps://tickets.thefoat.com/…/Real…/tickets/event-38169/\n\n\nFriday Night- Banger\, Old School & 26s\n\n\nSaturday- 28s\, New Age\, Bikes & Big Meats\n\n\nBikes ($50)\n\n\n1/8 Mile\nAny Clutch\nStreet Tire ( shinko/dragmax)\n\n\nNew Age ($150)\n\n\n1/8Mile\n05 or newer\n17 inch wheel or Larger\nAWD allowed (must be on street tire)\nSlick or Radial\nAny Power Adder\nMust Maintain Full Interior. No exposed metal except in trunk area.\nMUST MAINTAIN FACTORY STYLE TRANSMISSION.( This means if it came with an AOD it must maintain an AOD. No turbo400 swaps into vehicles.)\n\n\n28s ($200)\n\n\n1/8 mile\n28″ Slick (non W) or Radial\nCharging & Cooling\nFunctional Headlights and Tail lights\nCar must have Engine Diaper or Containment pan\nMust drive to lanes and back from pass (no push/pull)\n\n\nBanger ($100)\n\n\n1/4 Mile\nAny H pattern vehicle\nAny tire\nWorking functional headlights/tail lights\n\n\n26s ($200)\n\n\n1/8th mile\n26” DOT approved radial. NO SLICKS\nCharging & Cooling\nFunctional Headlights and Tail lights\nMust have diaper/containment pan\nMust drive to lanes and back from pass (no push/pull)\n\n\nBig Meats ($500)\n\n\n1/8th mile\nMinimum 28” tire ( no width limit)\nDoor Cars only (must be functional)\nMust have diaper/containment pan\n8 car max\n\n\nOld School NA\n\n\n1/4 mile\nPlease contact Eric Flitsch for rules & lock in\n8 car max
URL:https://www.noprep.com/event/real-street-takeover-mke-2021/
LOCATION:Great Lakes Dragaway\, 18411 1st Street\, Union Grove\, WI\, 53182\, United States
CATEGORIES:No Prep Racing Events
ATTACH;FMTTYPE=image/jpeg:https://www.noprep.com/wp-content/uploads/2021/06/203691571_1245909419159406_3009666841110023593_n.jpg
GEO:42.6620691;-88.0332095
X-APPLE-STRUCTURED-LOCATION;VALUE=URI;X-ADDRESS=Great Lakes Dragaway 18411 1st Street Union Grove WI 53182 United States;X-APPLE-RADIUS=500;X-TITLE=18411 1st Street:geo:-88.0332095,42.6620691
END:VEVENT
BEGIN:VEVENT
DTSTART;VALUE=DATE:20210730
DTEND;VALUE=DATE:20210731
DTSTAMP:20260423T081417
CREATED:20210625T171124Z
LAST-MODIFIED:20210625T171126Z
UID:10000058-1627603200-1627689599@www.noprep.com
SUMMARY:Chicago Street Kings Small Tire No Prep Race @ US41
DESCRIPTION:Street Kings TV Small Tire No Prep Race.\nCohost “Big Schwag” from Monster Garage\nPot will increase with Sponsors.\nDM for sponsor info.\nRacing Starts at 5.\nDetails in event\nLockup sent PayPal to fbombcustomcycles@gmail.com friends and family\nI got 500.00 cash to the Winner if PuertoRican Pete takes Scotty Martin 1st race down if Scotty locks in.\n\n\nRules below\n\n\nFriday July 30th US41 Street Kings No Prep Small Tire event. Cohost “Big Schwag” from Monster Garage.\n$25.00 General Admission/$40.00 VIP Wristbands for Staging and Burnout Box Betting\n\n\n3 classes….. all off the trailer\n\n\nOnly car count of lockup will be provided and not names. Sponsors added will go towards raising the pots.\n\n\nThe O.G. Street Class\n250.00 buy in( full lock in) Minimum 6k payout @16 cars\nStreet rules\n28×10.5 tire Non W\nFactory Roof & Quarters\nStock Wheel Base\nNo Wheelie Bars\nCharging & Cooling System\nMust Drive to the staging lanes\n\n\nThe Big Dogs\n500.00 Buy In(Full Lockin)5k with 10 Car Lock\n28×10.5 Non W\nSteel Roof/Quarters\n+3/-3 OEM Wheel Base\nNo Wheelie Bars\n\n\nIf your scared of the Big Dogs and Don’t fit in the Street\, we present the Bastards!\nThe Bastards\nSame Rules as the Big Dogs but less lock and payout.\n125.00 Buy in 16 Car Cap\n2k Payout with Cap\n\n\nLockup must be sent PayPal friends and family to Fbombcustomcycles@gmail.com or can Apple Pay\nWith name of driver\, what class and what car.\n\n\nGateset Open at 2pm\, Racing Starts at 5pm. Grudge Racing between Rounds.\n\n\nStay Saturday and Sunday for Big Drags Prepped Grudge Racing
URL:https://www.noprep.com/event/chicago-street-kings-small-tire-no-prep-race-us41/
LOCATION:US 41 Dragstrip\, 2695w. 50s.\, Morocco\, IN\, 47963\, United States
CATEGORIES:No Prep Racing Events
ATTACH;FMTTYPE=image/jpeg:https://www.noprep.com/wp-content/uploads/2021/06/205677069_4124056844346213_8331977549752407345_n.jpg
GEO:40.987935;-87.442509
X-APPLE-STRUCTURED-LOCATION;VALUE=URI;X-ADDRESS=US 41 Dragstrip 2695w. 50s. Morocco IN 47963 United States;X-APPLE-RADIUS=500;X-TITLE=2695w. 50s.:geo:-87.442509,40.987935
END:VEVENT
END:VCALENDAR