BEGIN:VCALENDAR
VERSION:2.0
PRODID:-//No Prep Racing - ECPv6.15.20//NONSGML v1.0//EN
CALSCALE:GREGORIAN
METHOD:PUBLISH
X-WR-CALNAME:No Prep Racing
X-ORIGINAL-URL:https://www.noprep.com
X-WR-CALDESC:Events for No Prep Racing
REFRESH-INTERVAL;VALUE=DURATION:PT1H
X-Robots-Tag:noindex
X-PUBLISHED-TTL:PT1H
BEGIN:VTIMEZONE
TZID:America/Chicago
BEGIN:DAYLIGHT
TZOFFSETFROM:-0600
TZOFFSETTO:-0500
TZNAME:CDT
DTSTART:20200308T080000
END:DAYLIGHT
BEGIN:STANDARD
TZOFFSETFROM:-0500
TZOFFSETTO:-0600
TZNAME:CST
DTSTART:20201101T070000
END:STANDARD
BEGIN:DAYLIGHT
TZOFFSETFROM:-0600
TZOFFSETTO:-0500
TZNAME:CDT
DTSTART:20210314T080000
END:DAYLIGHT
BEGIN:STANDARD
TZOFFSETFROM:-0500
TZOFFSETTO:-0600
TZNAME:CST
DTSTART:20211107T070000
END:STANDARD
BEGIN:DAYLIGHT
TZOFFSETFROM:-0600
TZOFFSETTO:-0500
TZNAME:CDT
DTSTART:20220313T080000
END:DAYLIGHT
BEGIN:STANDARD
TZOFFSETFROM:-0500
TZOFFSETTO:-0600
TZNAME:CST
DTSTART:20221106T070000
END:STANDARD
END:VTIMEZONE
BEGIN:VTIMEZONE
TZID:America/New_York
BEGIN:DAYLIGHT
TZOFFSETFROM:-0500
TZOFFSETTO:-0400
TZNAME:EDT
DTSTART:20200308T070000
END:DAYLIGHT
BEGIN:STANDARD
TZOFFSETFROM:-0400
TZOFFSETTO:-0500
TZNAME:EST
DTSTART:20201101T060000
END:STANDARD
BEGIN:DAYLIGHT
TZOFFSETFROM:-0500
TZOFFSETTO:-0400
TZNAME:EDT
DTSTART:20210314T070000
END:DAYLIGHT
BEGIN:STANDARD
TZOFFSETFROM:-0400
TZOFFSETTO:-0500
TZNAME:EST
DTSTART:20211107T060000
END:STANDARD
BEGIN:DAYLIGHT
TZOFFSETFROM:-0500
TZOFFSETTO:-0400
TZNAME:EDT
DTSTART:20220313T070000
END:DAYLIGHT
BEGIN:STANDARD
TZOFFSETFROM:-0400
TZOFFSETTO:-0500
TZNAME:EST
DTSTART:20221106T060000
END:STANDARD
END:VTIMEZONE
BEGIN:VEVENT
DTSTART;VALUE=DATE:20210806
DTEND;VALUE=DATE:20210808
DTSTAMP:20260423T034928
CREATED:20200114T160452Z
LAST-MODIFIED:20210716T182918Z
UID:10000050-1628208000-1628380799@www.noprep.com
SUMMARY:Street Outlaws No Prep Kings Season 4  Cordova IL
DESCRIPTION:  \n \nStreet Outlaws No Prep Kings Season 4 Cordova IL \nBUY TICKETS HERE
URL:https://www.noprep.com/event/street-outlaws-no-prep-kings-season-4-cordova-il/
LOCATION:Cordova Raceway\, 19425 IL Route 84 North\, Cordova\, 61242
CATEGORIES:No Prep Racing Events
ATTACH;FMTTYPE=image/png:https://www.noprep.com/wp-content/uploads/2020/01/No-Prep-Logo-1068x601-2.png
GEO:41.640625;-90.3360899
X-APPLE-STRUCTURED-LOCATION;VALUE=URI;X-ADDRESS=Cordova Raceway 19425 IL Route 84 North Cordova 61242;X-APPLE-RADIUS=500;X-TITLE=19425 IL Route 84 North:geo:-90.3360899,41.640625
END:VEVENT
BEGIN:VEVENT
DTSTART;TZID=America/New_York:20210806T170000
DTEND;TZID=America/New_York:20210807T233000
DTSTAMP:20260423T034928
CREATED:20201217T025120Z
LAST-MODIFIED:20201217T025122Z
UID:10000008-1628269200-1628379000@www.noprep.com
SUMMARY:Carolina Cash Days
DESCRIPTION:The OG No Prep Race of the Carolinas returns to Shadyside Dragway August 6th-7th\, 2021!!!! Two days of crazy no prep action returns to most famous outlaw 1/8th mile in the south with the ever popular Small Tire class with a $10\,000 payout on a 32 car field!!!!!\nClass Lineup:\nFriday: TBA\nSaturday:\nSmall Tire: $200 Entry ($100 Lock In\, $100 due at the track)\, Track adds $3\,000 ontop of the pot. 32 car field max. At 32 cars track will make the purse an even $10\,000!!!!!!!\nBig Tire: $200 Entry ($100 Lock In\, $100 due at the track) 100% Payback\, 32 Car Max. Track Adds Money after 16 cars\nStreet Racer: $100 Entry (Due at the Track) $500 added ontop of the purse\nStick Shift: $100 Entry (Due at the Track) $500 Added ontop of the purse\nHard Tire: $100 Entry (Due at the Track)\, Track adds money after 8 cars.
URL:https://www.noprep.com/event/carolina-cash-days/
LOCATION:Shadyside Dragway\, 2149 Honey Haven Farm Rd\, Shelby\, NC\, 28152\, United States
CATEGORIES:No Prep Racing Events
ATTACH;FMTTYPE=image/jpeg:https://www.noprep.com/wp-content/uploads/2020/12/EVENT-PAGE-BANNER.jpg
GEO:35.2146131;-81.6428287
X-APPLE-STRUCTURED-LOCATION;VALUE=URI;X-ADDRESS=Shadyside Dragway 2149 Honey Haven Farm Rd Shelby NC 28152 United States;X-APPLE-RADIUS=500;X-TITLE=2149 Honey Haven Farm Rd:geo:-81.6428287,35.2146131
END:VEVENT
BEGIN:VEVENT
DTSTART;VALUE=DATE:20210807
DTEND;VALUE=DATE:20210808
DTSTAMP:20260423T034928
CREATED:20210207T215257Z
LAST-MODIFIED:20210516T020950Z
UID:10000057-1628294400-1628380799@www.noprep.com
SUMMARY:River Bottom Brawl
DESCRIPTION:CENTRAL ILLINOIS DRAGWAY\nRIVER BOTTOM BRAWL – AUGUST 7TH 2021 \nEvent Details\n-No prep \n-Instant green start \n-Water burn out \n-No time event \n-Off the TRAILER RACE (not including Index) \n-$30 tech card for event plus buy in $ \n-$20 spectator fee (kids 10 and under free) \n-Gates open 12pm \n-Rain date August 8th 2021 \nWalker Tire Hard Tire\n-Must be DOT 220 or higher tread wear (no drag radials) \n-AWD must be on 20″ or larger wheel \n-Any Power Adder ok \n-Interior [back seat delete ok] \n-Functioning charging system \n-Lights \n-Current plates & registration \n-Exhaust systems/except turbo vehicles \n-Pairings handled by chip draw \n-$500 guaranteed winner \n-$50 buy in \n-$25 lock \n-32 car field max \nChris Duncan Race Cars Big Tire\n-OEM body cars or trucks \n-Steel roof and quarters \n-No rails/funny cars/roadster \n-Stock wheel base +- 3″ \n-Minimum 29″ (any width) \n-Pairings handled by chip draw \n-$2000 guaranteed winner \n-$200 buy in \n-$100 lock \n-32 car field max \nRed Line Motorsports Small Tire\n-28×10.5 Non W or smaller \n-OEM body car or trucks \n-Steel roof and quarters \n-No rails/funny cars/roadster \n-Stock wheel base +-2″ \n-Stock style front suspension \n-Firewall factory location \n-No tube chassis \n-No wheelie bars \n-Pairings handled by chip draw \n-$3\,500 guaranteed winner \n-$200 buy in \n-$100 lock \n-32 car field max \nAll Run Index 6.50 – 7.00 – 7.50\n– .500 pro tree \n-Door car or truck \n-Open time runs from 2:30pm till 3:30pm (max 2 time runs) \n-1st Round @ 4pm \n-Lane pairings of same ET until late rounds \n-$30 tech card \n-Guaranteed payout \n-$600 win $200 runner up $50 semi \n-$35 buy in \n-$20 lock in \n-32 car field max
URL:https://www.noprep.com/event/river-bottom-brawl/
LOCATION:CENTRAL ILLINOIS DRAGWAY\, United States
CATEGORIES:No Prep Racing Events
ATTACH;FMTTYPE=image/jpeg:https://www.noprep.com/wp-content/uploads/2021/02/received_515664689438963-scaled.jpeg
END:VEVENT
BEGIN:VEVENT
DTSTART;VALUE=DATE:20210807
DTEND;VALUE=DATE:20210808
DTSTAMP:20260423T034928
CREATED:20210609T181323Z
LAST-MODIFIED:20210609T181528Z
UID:10000020-1628294400-1628380799@www.noprep.com
SUMMARY:Uncaged
DESCRIPTION:REAL Street race styled racing\, Pour Your Own Puddle prep (no water)\nDon’t miss out on the opportunity to race on this virgin surface & make history\nWe would also like to welcome the Central Ohio Power Wheels Drag Racing\nAug 7th from 3pm-midnight\n$20 gen admission\n11 & under free\n$5 off for Seniors\, Military & First Responders (With Valid ID)\nTech cards $40 (Also required for t&t only vehicles)\nALL OFFICIATING DONE BY D TEAM RACING!!!\nDRIVER AND VEHICLE SAFETY.\n-Helmets and Racing Suits are REQUIRED. No Questions.\nIf you attempt to make a pass without the proper safety equipment in place\, you will be asked to find some.\nIf it happens again\, you will be told to leave.\nFlashlight start\nOff the trailer NO TEST PASSES\n1/8th mile Heads up racing\nPour Your Own Puddle (No water)\ntouch the line ok\, cross fully you lose\nChase is a race\nFinish line has final say\nSingle burn out (get it right the first time)\nFirst round call outs allowed BEFORE pairings are made\nWATER ONLY IN RADIATORS NO EXCEPTIONS\nPM all Grudge races to get shout outs\nAll classes are paypal half up front to lock in spot\nPower Wheels Racing for the kids!!! \nFOR THE FIRST TIME EVER…. RWYB CLASS!!!\n4 tires\nSafety equipment\n$100 buy in\, 100% payout \nSmall tire\n28×10.5 non w\nno wheelie bars\nsteel roof and quarters\nno more than 21″ of horsepower driven rubber\nall body panels must be installed on the vehicle unless damaged during the race\n$200 buy in 100% payout \nBig tire\n28×10.5 w and larger\nsteel roof and quarters\nall body panels must be installed on the vehicle unless damaged during the race\n$200 buy in 100% payout\nHard Tire Class:\nWe will be using the Hard Tire Racing Association Rules with a small change. Tires 275/60/R15 or Smaller Hard Tire Only\, BF Goodrich Radial T/A\, UTQG (Treadwear) “400+” only. Any size wheel as long as the outside tire dimensions do not exceed 28″x11″ must have a 400+ tread wear like the BFG\nAny front suspension\, any rear suspension\, any engine/power adder. Ballast must be attached to the structure of the car. 20 car field\,\n$50 buy in 100% payout \nHard Tire Class:\nWe will be using the Hard Tire Racing Association Rules with a small change. Tires 275/60/R15 or Smaller Hard Tire Only\, BF Goodrich Radial T/A\, UTQG (Treadwear) “400+” only. Any size wheel as long as the outside tire dimensions do not exceed 28″x11″ must have a 400+ tread wear like the BFG\nAny front suspension\, any rear suspension\, any engine/power adder. Ballast must be attached to the structure of the car. 20 car field\,\n$50 buy in 100% payout\nModern Muscle\nMust race as equipped from OEM unless modifications made are for safety equipment ie: removed back seat for roll cage\n1993 or newer factory equipped fuel injection cars only\nExhaust must exit the vehicle from the same place it did from the factory\nMust retain fuel injection\nStock style suspension in OEM mounting brackets & locations\nFull interior (rear seat delete ok)\nNo lexan\n28×10.5\, 275/60-15 or 325 max for 17″+ wheels.\nTires must be dot approved\nAWD allowed on a 200+ treadwear\nFront drive allowed with no tire restrictions\n$50 buy in 100% Payout\nStick Shift class\nSteel roof and quarters\nTRANSMISSION\n-Must be a H pattern transmission (no sequential alterations) \nStreet bike class:\nStreet styled tire\nHand operated clutch\nRun what you bring & hope its enough\n$100 buy in 100% payout See Less
URL:https://www.noprep.com/event/uncaged/
LOCATION:National Trail Raceway\, 2650 National Rd SW\, Hebron\, OH\, 43025\, United States
CATEGORIES:No Prep Racing Events
ATTACH;FMTTYPE=image/jpeg:https://www.noprep.com/wp-content/uploads/2021/06/182210453_4015098148555888_3898962634754229699_n.jpg
ORGANIZER;CN="ohio grudge racing":MAILTO:ohiogrudgeracing@gmail.com
GEO:39.9577662;-82.5426366
X-APPLE-STRUCTURED-LOCATION;VALUE=URI;X-ADDRESS=National Trail Raceway 2650 National Rd SW Hebron OH 43025 United States;X-APPLE-RADIUS=500;X-TITLE=2650 National Rd SW:geo:-82.5426366,39.9577662
END:VEVENT
BEGIN:VEVENT
DTSTART;VALUE=DATE:20210813
DTEND;VALUE=DATE:20210815
DTSTAMP:20260423T034928
CREATED:20210628T163455Z
LAST-MODIFIED:20210628T165826Z
UID:10000024-1628812800-1628985599@www.noprep.com
SUMMARY:Outlaw Armageddon 7 The World Series of No Prep
DESCRIPTION:THE WORLD’S BIGGEST AND MOST EXCITING NO PREP RACE RETURNS FOR THE 7TH ANNUAL EVENT. ALL RACERS FROM AROUND THE COUNTRY ARE WELCOME TO GRAB AN ENTRY AND COMPETE AGAINST THE BEST NO PREP RACERS IN THE WORLD\, ON THE BIGGEST STAGE\, FOR PRIZE MONEY & BRAGGING RIGHTS.
URL:https://www.noprep.com/event/outlaw-armageddon-7-the-world-series-of-no-prep/
LOCATION:Thunder Valley Raceway Park\, 10500 SE 48TH AVE\, NOBLE\, OK\, 73051\, United States
CATEGORIES:No Prep Racing Events
ATTACH;FMTTYPE=image/jpeg:https://www.noprep.com/wp-content/uploads/2021/06/185664886_1993000877519299_6056457553781844497_n.jpg
GEO:35.131392;-97.370814
X-APPLE-STRUCTURED-LOCATION;VALUE=URI;X-ADDRESS=Thunder Valley Raceway Park 10500 SE 48TH AVE NOBLE OK 73051 United States;X-APPLE-RADIUS=500;X-TITLE=10500 SE 48TH AVE:geo:-97.370814,35.131392
END:VEVENT
END:VCALENDAR