BEGIN:VCALENDAR
VERSION:2.0
PRODID:-//No Prep Racing - ECPv6.15.20//NONSGML v1.0//EN
CALSCALE:GREGORIAN
METHOD:PUBLISH
X-ORIGINAL-URL:https://www.noprep.com
X-WR-CALDESC:Events for No Prep Racing
REFRESH-INTERVAL;VALUE=DURATION:PT1H
X-Robots-Tag:noindex
X-PUBLISHED-TTL:PT1H
BEGIN:VTIMEZONE
TZID:America/Chicago
BEGIN:DAYLIGHT
TZOFFSETFROM:-0600
TZOFFSETTO:-0500
TZNAME:CDT
DTSTART:20200308T080000
END:DAYLIGHT
BEGIN:STANDARD
TZOFFSETFROM:-0500
TZOFFSETTO:-0600
TZNAME:CST
DTSTART:20201101T070000
END:STANDARD
BEGIN:DAYLIGHT
TZOFFSETFROM:-0600
TZOFFSETTO:-0500
TZNAME:CDT
DTSTART:20210314T080000
END:DAYLIGHT
BEGIN:STANDARD
TZOFFSETFROM:-0500
TZOFFSETTO:-0600
TZNAME:CST
DTSTART:20211107T070000
END:STANDARD
BEGIN:DAYLIGHT
TZOFFSETFROM:-0600
TZOFFSETTO:-0500
TZNAME:CDT
DTSTART:20220313T080000
END:DAYLIGHT
BEGIN:STANDARD
TZOFFSETFROM:-0500
TZOFFSETTO:-0600
TZNAME:CST
DTSTART:20221106T070000
END:STANDARD
END:VTIMEZONE
BEGIN:VEVENT
DTSTART;VALUE=DATE:20211113
DTEND;VALUE=DATE:20211114
DTSTAMP:20260423T083540
CREATED:20211109T195908Z
LAST-MODIFIED:20211109T200026Z
UID:10000001-1636761600-1636847999@www.noprep.com
SUMMARY:Veteran's Day Farmageddon - CLASSES and RULES - Tucson Dragway Nov. 13th
DESCRIPTION:Veteran’s Day Farmageddon – CLASSES and RULES – Tucson Dragway Nov. 13th\nby AZN Farmtruck October 26\, 2021\nVeteran’s Day Farmageddon\nGET YOUR TICKETS HERE\nEvent Pricing:\nSingle Day Spectator:$20\nSingle Day Crew: $25\nSingle Day Racer: $40\nSingle Day Burnout Pit: $20\nEvent Spectator: $35\nEvent Crew: $45\nEvent Racer: $75\nEvent Burnout Pit: $35\nClass Buy-Ins:\nDaily Driver: $20\nExtreme Daily Driver: $50\nGrocery Getter Cars & Trucks: $20\nMini-Van Mayhem: $1 \nFriday: FNA with Matt to Fort Huachuca Army Intelligence Base for Short Talk\, Q&A\, Meet & Great: 8:30am (Depart Tucson Dragway)\nFriday Hours:\nTicketing/Gates Open 10:00am – 9:00pm\nTech: 10:00am – 8:00pm\nOpen Test & Tune: 3:00pm – 9:00pm\nSaturday Hours:\nTicketing/Gates Open 8:00am – 6:00pm (ish)\nTrack Hot: 10:00am – 6:00pm (ish)\nTech: 8:00am – 4:00pm (ish)\nOpen Test & Tune: through out the day between classes. \nCLASSES and RULES\nDaily Driver Duel: -All cars must have steel roof and quarters unless OEM fiberglass -Must have VIN plate -No roll cages unless OEM -Tires must be 325/60/15 (larger ok if OEM) -300 treadwear tires mandatory -No AWD -No wheelie bars -Current tags and valid insurance mandatory -No transbrakes -No two-steps -No parachutes -No air to water intercoolers unless OEM from factory -Mufflers required (unless turbo) -No hood/fender/bumper exit exhaust -Full factory glass -Fiberglass hoods permitted -Must have all body panels on car at all times -Full factory interior (carpet\, dash\, door panels) -No race seats -Front struts must be in stock location -Stock-style suspension (coilovers ok) \nOutlaw Daily Driver: -All cars must have steel roof and quarters unless OEM fiberglass -Must have VIN plate -No roll cages unless OEM – DOT Tire (Drag Radials Allowed) Unlimited Tire Size – AWD Allowed -No wheelie bars -Current tags and valid insurance mandatory -No transbrakes -No two-steps -No parachutes -Mufflers required (unless turbo) -Full factory glass -Fiberglass hoods permitted -Must have all body panels on car at all times -Full factory interior (carpet\, dash\, door panels) -No race seats -Front struts must be in stock location -Stock-style suspension (coilovers ok) \nGrocery Getter Class: (Newbies with bone stock cars) \nMini-Van Mayhem: (All Minivans\, may be thrown into grocery getters if there aren’t enough entries) \nBurnout Class: Cars/Truck Can it smoke the tires? THEN IT’S IN! \nRC Drag Racing: TBD \nPower Wheels: TBD
URL:https://www.noprep.com/event/veterans-day-farmageddon-classes-and-rules-tucson-dragway-nov-13th/
LOCATION:Tucson Dragway\, 12000 S Houghton Rd\, Tucson\, AZ\, 85747\, United States
CATEGORIES:No Prep Racing Events,Prepped Racing Events
ATTACH;FMTTYPE=image/jpeg:https://www.noprep.com/wp-content/uploads/2021/11/FB-1_480x480.jpg
GEO:32.0358688;-110.7759678
X-APPLE-STRUCTURED-LOCATION;VALUE=URI;X-ADDRESS=Tucson Dragway 12000 S Houghton Rd Tucson AZ 85747 United States;X-APPLE-RADIUS=500;X-TITLE=12000 S Houghton Rd:geo:-110.7759678,32.0358688
END:VEVENT
END:VCALENDAR