BEGIN:VCALENDAR
VERSION:2.0
PRODID:-//No Prep Racing - ECPv6.15.20//NONSGML v1.0//EN
CALSCALE:GREGORIAN
METHOD:PUBLISH
X-WR-CALNAME:No Prep Racing
X-ORIGINAL-URL:https://www.noprep.com
X-WR-CALDESC:Events for No Prep Racing
REFRESH-INTERVAL;VALUE=DURATION:PT1H
X-Robots-Tag:noindex
X-PUBLISHED-TTL:PT1H
BEGIN:VTIMEZONE
TZID:America/Chicago
BEGIN:DAYLIGHT
TZOFFSETFROM:-0600
TZOFFSETTO:-0500
TZNAME:CDT
DTSTART:20240310T080000
END:DAYLIGHT
BEGIN:STANDARD
TZOFFSETFROM:-0500
TZOFFSETTO:-0600
TZNAME:CST
DTSTART:20241103T070000
END:STANDARD
BEGIN:DAYLIGHT
TZOFFSETFROM:-0600
TZOFFSETTO:-0500
TZNAME:CDT
DTSTART:20250309T080000
END:DAYLIGHT
BEGIN:STANDARD
TZOFFSETFROM:-0500
TZOFFSETTO:-0600
TZNAME:CST
DTSTART:20251102T070000
END:STANDARD
BEGIN:DAYLIGHT
TZOFFSETFROM:-0600
TZOFFSETTO:-0500
TZNAME:CDT
DTSTART:20260308T080000
END:DAYLIGHT
BEGIN:STANDARD
TZOFFSETFROM:-0500
TZOFFSETTO:-0600
TZNAME:CST
DTSTART:20261101T070000
END:STANDARD
END:VTIMEZONE
BEGIN:VEVENT
DTSTART;VALUE=DATE:20250905
DTEND;VALUE=DATE:20250907
DTSTAMP:20260419T124451
CREATED:20250311T151344Z
LAST-MODIFIED:20250311T151344Z
UID:10000210-1757030400-1757203199@www.noprep.com
SUMMARY:MKE TAKEOVER & RIVER REDEMPTION SMALL TIRE NO PREP & PREPPED RACING SEPTEMBER 2025
DESCRIPTION:
URL:https://www.noprep.com/event/mke-takeover-river-redemption-small-tire-no-prep-prepped-racing-september-2025/
LOCATION:BYRON DRAGWAY\, 7287 N River Rd\, Byron\, IL\, 61010\, United States
CATEGORIES:No Prep Racing Events,Prepped Racing Events,Street Car Takeover
ATTACH;FMTTYPE=image/jpeg:https://www.noprep.com/wp-content/uploads/2025/03/451487253_436498759372163_5232289559707297798_n.jpg
GEO:42.1157096;-89.2736049
X-APPLE-STRUCTURED-LOCATION;VALUE=URI;X-ADDRESS=BYRON DRAGWAY 7287 N River Rd Byron IL 61010 United States;X-APPLE-RADIUS=500;X-TITLE=7287 N River Rd:geo:-89.2736049,42.1157096
END:VEVENT
BEGIN:VEVENT
DTSTART;VALUE=DATE:20250911
DTEND;VALUE=DATE:20250914
DTSTAMP:20260419T124451
CREATED:20250912T165035Z
LAST-MODIFIED:20250912T165308Z
UID:10000216-1757548800-1757807999@www.noprep.com
SUMMARY:OUTLAW ARMAGEDDON 10 TULSA RACEWAY PARK
DESCRIPTION:Outlaw Armageddon No Prep’s FIRST visit to Osage Casino & Hotel Tulsa Raceway Park is going to be insane!!\nGet ready for one of the BIGGEST Events of the year!!\nGet here early to see your favorite racers from across the country!\n\n\nFriday 9/12 Schedule!\nGates open at 10am\nDrag and Drive Racing 9-Noon\nRacer Meeting at 2pm\nHeads-Up Racing starts at 4pm! We will race until there is a WINNER!\n 
URL:https://www.noprep.com/event/outlaw-armageddon-10-tulsa-raceway-park/
LOCATION:Tulsa Raceway Park\, United States
CATEGORIES:No Prep Racing Events
ATTACH;FMTTYPE=image/jpeg:https://www.noprep.com/wp-content/uploads/2025/09/481090360_962482729308271_6646904854075306966_n.jpg
END:VEVENT
BEGIN:VEVENT
DTSTART;VALUE=DATE:20250919
DTEND;VALUE=DATE:20250921
DTSTAMP:20260419T124451
CREATED:20250912T151209Z
LAST-MODIFIED:20250912T151306Z
UID:10000215-1758240000-1758412799@www.noprep.com
SUMMARY:WAR IN THE WOODS NO PREP XIII
DESCRIPTION:WAR IN THE WOODS NO PREP XIII
URL:https://www.noprep.com/event/war-in-the-woods-no-prep-xiii/
LOCATION:BROWN COUNTY DRAGWAY\, United States
CATEGORIES:No Prep Racing Events
ATTACH;FMTTYPE=image/jpeg:https://www.noprep.com/wp-content/uploads/2025/09/536279653_755191857493107_6336102680524304729_n.jpg
END:VEVENT
END:VCALENDAR