BEGIN:VCALENDAR
VERSION:2.0
PRODID:-//No Prep Racing - ECPv6.15.20//NONSGML v1.0//EN
CALSCALE:GREGORIAN
METHOD:PUBLISH
X-ORIGINAL-URL:https://www.noprep.com
X-WR-CALDESC:Events for No Prep Racing
REFRESH-INTERVAL;VALUE=DURATION:PT1H
X-Robots-Tag:noindex
X-PUBLISHED-TTL:PT1H
BEGIN:VTIMEZONE
TZID:America/Chicago
BEGIN:DAYLIGHT
TZOFFSETFROM:-0600
TZOFFSETTO:-0500
TZNAME:CDT
DTSTART:20190310T080000
END:DAYLIGHT
BEGIN:STANDARD
TZOFFSETFROM:-0500
TZOFFSETTO:-0600
TZNAME:CST
DTSTART:20191103T070000
END:STANDARD
BEGIN:DAYLIGHT
TZOFFSETFROM:-0600
TZOFFSETTO:-0500
TZNAME:CDT
DTSTART:20200308T080000
END:DAYLIGHT
BEGIN:STANDARD
TZOFFSETFROM:-0500
TZOFFSETTO:-0600
TZNAME:CST
DTSTART:20201101T070000
END:STANDARD
BEGIN:DAYLIGHT
TZOFFSETFROM:-0600
TZOFFSETTO:-0500
TZNAME:CDT
DTSTART:20210314T080000
END:DAYLIGHT
BEGIN:STANDARD
TZOFFSETFROM:-0500
TZOFFSETTO:-0600
TZNAME:CST
DTSTART:20211107T070000
END:STANDARD
END:VTIMEZONE
BEGIN:VEVENT
DTSTART;VALUE=DATE:20200502
DTEND;VALUE=DATE:20200503
DTSTAMP:20260421T013729
CREATED:20200105T235047Z
LAST-MODIFIED:20200106T000719Z
UID:10000034-1588377600-1588463999@www.noprep.com
SUMMARY:Hoosier No Prep Series
DESCRIPTION:05/02/2020\n\n\n\nSpeeds New Hope Dragway\n5pm–11pm\n$15 Admission\n\n\n\nWere kicking off this series right here in the middle of nowhere…HoosierNo Prep style!! What makes this one special is that its ALL concrete. \n  \n05/22/2020 \n\n\n\n\n\n\n\n\n\n\n\nColes County Dragway\n5pm–11pm\n$15 Admission \n\n\nStop 2. 45 min from Terra Haute…These neighbors to our west like to get down and are no stranger to No Prep. \n\n\n\n06/20/2020\n\n\n\n\n\n\n\n\n\n\n\n\nSpeeds New Hope Dragway\nTBA\n$15 Admission \n\n\nStop 3.  This track is so awesome we have to come here two times. Speed is the poster child or Hoosier No Prep. \n\n\n\n08/08/2020\n\n\n\n\n\n\n\n\n\n\n\n\nWagler Motorsports Park\nTBA\n$15 Admission \n\n\nStop 4. This is one of best tracks in the state. You’re going to see some of the best racing come from this one. \n\n\n\n\n\n\n\n\n\n\n\n\n\n\n\n\n\n\n\n09/12/2020\n\n\n\nBrown County Dragway\nTBA\n$15 Admission \n\n\nStop 5 is the home of the BlackHole….660 feet and stay out of the trees!! One of the best prepped tracks is also one of the best No Prep tracks. \n\n\n\n10/23/2020\n\n\n\n\n\n\n\n\n\n\n\n\nLucas Oil Raceway Park\nTBA\n\n\nStop 6. The Big Go. Home of The Us Nationals. Lucas Oil Raceway Park. We plan on breaking this track in right. Season Finally. Someones getting Crowned the King of Hoosier No Prep!!
URL:https://www.noprep.com/event/hoosier-no-prep-series/2020-05-02/
LOCATION:Hoosier No Prep
CATEGORIES:No Prep Racing Events
ATTACH;FMTTYPE=image/jpeg:https://www.noprep.com/wp-content/uploads/2020/01/inbound1214896692335893759.jpg
ORGANIZER;CN="Hoosier No Prep":MAILTO:HoosierNoPrep@Gmail.com
END:VEVENT
BEGIN:VEVENT
DTSTART;VALUE=DATE:20200417
DTEND;VALUE=DATE:20200420
DTSTAMP:20260421T013729
CREATED:20191220T000548Z
LAST-MODIFIED:20191220T000706Z
UID:10000062-1587081600-1587340799@www.noprep.com
SUMMARY:Black Sheep Mafia Vs. The World
DESCRIPTION:Let’s see who will conquer both worlds NO PREP FRIDAY THEN RADIAL PREP SATURDAY AND SUNDAY
URL:https://www.noprep.com/event/black-sheep-mafia-vs-the-world/
LOCATION:Holly Springs Motorsports\, 159 MS-7\, Holly Springs\, MS\, 38635\, United States
CATEGORIES:No Prep Racing Events,Prepped Racing Events
ATTACH;FMTTYPE=image/jpeg:https://www.noprep.com/wp-content/uploads/2019/12/79498307_10157593907044871_2614107230252826624_o.jpg
GEO:34.7373809;-89.4554901
X-APPLE-STRUCTURED-LOCATION;VALUE=URI;X-ADDRESS=Holly Springs Motorsports 159 MS-7 Holly Springs MS 38635 United States;X-APPLE-RADIUS=500;X-TITLE=159 MS-7:geo:-89.4554901,34.7373809
END:VEVENT
BEGIN:VEVENT
DTSTART;VALUE=DATE:20200417
DTEND;VALUE=DATE:20200418
DTSTAMP:20260421T013729
CREATED:20200305T012632Z
LAST-MODIFIED:20200305T183931Z
UID:10000040-1587081600-1587167999@www.noprep.com
SUMMARY:DETROITHOODTV’S- Pour Your Own Puddle Series
DESCRIPTION:1/8 mile No Prep Back end of Track Bare Asphalt surface. Pour your own puddle \, flash light start \, Tire Crack before light you loose \, cross in front you loose / Cross behind and come around YOU THE MAN/woman!
URL:https://www.noprep.com/event/detroithoodtvs-pour-your-own-puddle-series/2020-04-17/
LOCATION:Milan Dragway \, milan mi\, 10860 Plank Rd\, Milan\, MI\, 48160
CATEGORIES:No Prep Racing Events
ATTACH;FMTTYPE=image/jpeg:https://www.noprep.com/wp-content/uploads/2020/03/35EB7ADB-614B-4FD1-A53A-FB0E69F3F05C.jpeg
ORGANIZER;CN="Detroithoodtv":MAILTO:Detroithoodtv@gmail.com
GEO:42.0360271;-83.6142225
X-APPLE-STRUCTURED-LOCATION;VALUE=URI;X-ADDRESS=Milan Dragway  milan mi 10860 Plank Rd Milan MI 48160;X-APPLE-RADIUS=500;X-TITLE=10860 Plank Rd:geo:-83.6142225,42.0360271
END:VEVENT
BEGIN:VEVENT
DTSTART;VALUE=DATE:20200411
DTEND;VALUE=DATE:20200412
DTSTAMP:20260421T013729
CREATED:20200103T020820Z
LAST-MODIFIED:20200103T020821Z
UID:10000031-1586563200-1586649599@www.noprep.com
SUMMARY:No Prep Mayhem
DESCRIPTION:Hosted by Big Marc and Big Rob Entertainment
URL:https://www.noprep.com/event/no-prep-mayhem/
LOCATION:Kansas International Dragway\, 7800 W 61st St N\, Maize\, KS\, 67101\, United States
CATEGORIES:No Prep Racing Events
ATTACH;FMTTYPE=image/jpeg:https://www.noprep.com/wp-content/uploads/2020/01/FB_IMG_1578016862753.jpg
GEO:37.796626;-97.4370792
X-APPLE-STRUCTURED-LOCATION;VALUE=URI;X-ADDRESS=Kansas International Dragway 7800 W 61st St N Maize KS 67101 United States;X-APPLE-RADIUS=500;X-TITLE=7800 W 61st St N:geo:-97.4370792,37.796626
END:VEVENT
BEGIN:VEVENT
DTSTART;VALUE=DATE:20200307
DTEND;VALUE=DATE:20200309
DTSTAMP:20260421T013729
CREATED:20200302T171838Z
LAST-MODIFIED:20200302T172714Z
UID:10000048-1583539200-1583711999@www.noprep.com
SUMMARY:Beyond 1320 Ca$hDays
DESCRIPTION:Come join us at Alamo City MotorPlex this weekend March 7th after battle at the Alamo for a badass Beyond 1320 event hosted by Angel Montantes and Misty Montantes! we have 6 different classes it’s going to be a badass Night!!! \nSmall tire: $200 BUY IN \n29.5×10.5 NON W tire\nSteel roof and quarters\nNo wheelie bars\nFlashlight start\n1/8 mile\nYou jump you lose\nYou cross you lose\nNO AWDS\nONE BURN OUT \nRun what ya brung\n$250 BUY IN\nNO TIRE SIZE RULES\nRUN WHAT YA BRUNG\nYou jump you lose\nYou cross you lose\n1/8 mile\nFlashlight start\nONE BURN OUT \nSmall tire N/A $150 BUY IN\n29.5×10.5 NON W tire\nNO POWER ADDERS\nYou jump you lose\nYou cross you lose\n1/8 mile\nFlashlight start\nONE BURN OUT \nStreet Car: $100 BUY IN\nDOT Drag Radials\nNO CHEATER SLICKS\nStreet style trim on car\nYou jump you lose\nYou cross you lose\n1/8 mile\nFlashlight start\nONE BURN OUT \nBIKE: $100\nAll stock/ street\nNO POWER ADDERS\n600cc and up\nMUST HAVE ALL SAFETY GEAR! \n       \n 
URL:https://www.noprep.com/event/beyond-1320-cahdays/
LOCATION:Alamo City Motorplex\, 3641 S Santa Clara Rd\, Marion\, TX\, 78124\, United States
CATEGORIES:No Prep Racing Events
ATTACH;FMTTYPE=image/jpeg:https://www.noprep.com/wp-content/uploads/2020/03/0E3F7501-213E-49C0-842F-0B9E25EBD4A6.jpeg
ORGANIZER;CN="Black Mamba Spit Promotions":MAILTO:blackmambasspit@yahoo.com
GEO:29.5235046;-98.1389373
X-APPLE-STRUCTURED-LOCATION;VALUE=URI;X-ADDRESS=Alamo City Motorplex 3641 S Santa Clara Rd Marion TX 78124 United States;X-APPLE-RADIUS=500;X-TITLE=3641 S Santa Clara Rd:geo:-98.1389373,29.5235046
END:VEVENT
BEGIN:VEVENT
DTSTART;VALUE=DATE:20200222
DTEND;VALUE=DATE:20200223
DTSTAMP:20260421T013729
CREATED:20191221T142715Z
LAST-MODIFIED:20221012T161221Z
UID:10000028-1582329600-1582415999@www.noprep.com
SUMMARY:West Coast Shootout @ Alien City Dragway
DESCRIPTION:No Prep 1/8 mile Event
URL:https://www.noprep.com/event/west-coast-shootout-alien-city-dragway/
LOCATION:Alien City Dragway\, 72 LaMay\, Roswell\, NM\, 88203
CATEGORIES:No Prep Racing Events
ATTACH;FMTTYPE=image/jpeg:https://www.noprep.com/wp-content/uploads/2019/12/image1.jpeg
GEO:33.306342;-104.4990459
X-APPLE-STRUCTURED-LOCATION;VALUE=URI;X-ADDRESS=Alien City Dragway 72 LaMay Roswell NM 88203;X-APPLE-RADIUS=500;X-TITLE=72 LaMay:geo:-104.4990459,33.306342
END:VEVENT
END:VCALENDAR