BEGIN:VCALENDAR
VERSION:2.0
PRODID:-//No Prep Racing - ECPv6.15.20//NONSGML v1.0//EN
CALSCALE:GREGORIAN
METHOD:PUBLISH
X-ORIGINAL-URL:https://www.noprep.com
X-WR-CALDESC:Events for No Prep Racing
REFRESH-INTERVAL;VALUE=DURATION:PT1H
X-Robots-Tag:noindex
X-PUBLISHED-TTL:PT1H
BEGIN:VTIMEZONE
TZID:America/Chicago
BEGIN:DAYLIGHT
TZOFFSETFROM:-0600
TZOFFSETTO:-0500
TZNAME:CDT
DTSTART:20230312T080000
END:DAYLIGHT
BEGIN:STANDARD
TZOFFSETFROM:-0500
TZOFFSETTO:-0600
TZNAME:CST
DTSTART:20231105T070000
END:STANDARD
BEGIN:DAYLIGHT
TZOFFSETFROM:-0600
TZOFFSETTO:-0500
TZNAME:CDT
DTSTART:20240310T080000
END:DAYLIGHT
BEGIN:STANDARD
TZOFFSETFROM:-0500
TZOFFSETTO:-0600
TZNAME:CST
DTSTART:20241103T070000
END:STANDARD
BEGIN:DAYLIGHT
TZOFFSETFROM:-0600
TZOFFSETTO:-0500
TZNAME:CDT
DTSTART:20250309T080000
END:DAYLIGHT
BEGIN:STANDARD
TZOFFSETFROM:-0500
TZOFFSETTO:-0600
TZNAME:CST
DTSTART:20251102T070000
END:STANDARD
END:VTIMEZONE
BEGIN:VEVENT
DTSTART;VALUE=DATE:20241129
DTEND;VALUE=DATE:20241130
DTSTAMP:20260419T134840
CREATED:20241104T194400Z
LAST-MODIFIED:20241104T194406Z
UID:10000185-1732838400-1732924799@www.noprep.com
SUMMARY:BLACK FRIDAY AT THE BURG 2024 | FRONTSIDE NO PREP RACE AT US 60 DRAGWAY
DESCRIPTION:BLACK FRIDAY AT THE BURG 2024 | FRONTSIDE NO PREP RACE AT US 60 DRAGWAY \nSAVE THE DATE — FRIDAY\, NOVEMBER 29TH!\n— BLACK FRIDAY AT THE BURG —\nNO PREP | FRONT SIDE RACING\n Admission – $25 Per Day or $40 For The Weekend | Kids 12 & Under FREE• Gates Open At 12pm cst• Drivers Meeting At 4pm cst• First Round At 5pm cst\nCLASSES:RWYBSMALL TIRETRUE STREETGANGSTER 26sDAILY DRIVERBIKES\nDJ EMPTY BEATS SPINNING ALL NIGHT \n— INFO\, PAYOUTS & ALL DETAILS COMING SOON
URL:https://www.noprep.com/event/black-friday-at-the-burg-2024-frontside-no-prep-race-at-us-60-dragway/
LOCATION:US 60 DRAGWAY\, 1487 US-60\, Hardinsburg\, KY\, 40143\, United States
CATEGORIES:No Prep Racing Events
ATTACH;FMTTYPE=image/jpeg:https://www.noprep.com/wp-content/uploads/2024/11/460809113_446834958402295_4186336605463047453_n.jpg
GEO:37.7582179;-86.4341314
X-APPLE-STRUCTURED-LOCATION;VALUE=URI;X-ADDRESS=US 60 DRAGWAY 1487 US-60 Hardinsburg KY 40143 United States;X-APPLE-RADIUS=500;X-TITLE=1487 US-60:geo:-86.4341314,37.7582179
END:VEVENT
END:VCALENDAR