BEGIN:VCALENDAR
VERSION:2.0
PRODID:-//No Prep Racing - ECPv6.15.20//NONSGML v1.0//EN
CALSCALE:GREGORIAN
METHOD:PUBLISH
X-ORIGINAL-URL:https://www.noprep.com
X-WR-CALDESC:Events for No Prep Racing
REFRESH-INTERVAL;VALUE=DURATION:PT1H
X-Robots-Tag:noindex
X-PUBLISHED-TTL:PT1H
BEGIN:VTIMEZONE
TZID:America/Chicago
BEGIN:DAYLIGHT
TZOFFSETFROM:-0600
TZOFFSETTO:-0500
TZNAME:CDT
DTSTART:20240310T080000
END:DAYLIGHT
BEGIN:STANDARD
TZOFFSETFROM:-0500
TZOFFSETTO:-0600
TZNAME:CST
DTSTART:20241103T070000
END:STANDARD
BEGIN:DAYLIGHT
TZOFFSETFROM:-0600
TZOFFSETTO:-0500
TZNAME:CDT
DTSTART:20250309T080000
END:DAYLIGHT
BEGIN:STANDARD
TZOFFSETFROM:-0500
TZOFFSETTO:-0600
TZNAME:CST
DTSTART:20251102T070000
END:STANDARD
BEGIN:DAYLIGHT
TZOFFSETFROM:-0600
TZOFFSETTO:-0500
TZNAME:CDT
DTSTART:20260308T080000
END:DAYLIGHT
BEGIN:STANDARD
TZOFFSETFROM:-0500
TZOFFSETTO:-0600
TZNAME:CST
DTSTART:20261101T070000
END:STANDARD
END:VTIMEZONE
BEGIN:VEVENT
DTSTART;VALUE=DATE:20250321
DTEND;VALUE=DATE:20250323
DTSTAMP:20260421T103902
CREATED:20250107T160314Z
LAST-MODIFIED:20250107T160552Z
UID:10000204-1742515200-1742687999@www.noprep.com
SUMMARY:Bounty Hunters 9 No-Prep Nationals at Pennwell Knights Raceway
DESCRIPTION:No Prep’s largest annual season-opening event is back in 2025 for it’s 9th running! Project X Promotions\, in its 10th year of competition\, has once again teamed up with Penwell Knights Raceway in Odessa\, Texas to bring back one of the biggest racing events ever to hit West Texas. Come out and join us as no-prep racing’s raising stars battle it out on March 21-22\, 2025! As always\, kids 12 & under are FREE!Tickets:Friday- $20Saturday- $30Weekend Pass- $40VIP Pass- $40 additional to ticketKids 12 & under FREEParking:Pit Side- $20/daySpectator Side- Free
URL:https://www.noprep.com/event/bounty-hunters-9-no-prep-nationals-at-pennwell-knights-raceway/
LOCATION:Penwell Knights Raceway at Caprock Motorplex\, 326 FM 1601\, Odessa\, TX\, 79776\, United States
CATEGORIES:No Prep Racing Events
ATTACH;FMTTYPE=image/jpeg:https://www.noprep.com/wp-content/uploads/2025/01/471325294_914265064147916_7171002887595491088_n.jpg
GEO:31.7365184;-102.5910426
X-APPLE-STRUCTURED-LOCATION;VALUE=URI;X-ADDRESS=Penwell Knights Raceway at Caprock Motorplex 326 FM 1601 Odessa TX 79776 United States;X-APPLE-RADIUS=500;X-TITLE=326 FM 1601:geo:-102.5910426,31.7365184
END:VEVENT
END:VCALENDAR