BEGIN:VCALENDAR
VERSION:2.0
PRODID:-//No Prep Racing - ECPv6.15.20//NONSGML v1.0//EN
CALSCALE:GREGORIAN
METHOD:PUBLISH
X-WR-CALNAME:No Prep Racing
X-ORIGINAL-URL:https://www.noprep.com
X-WR-CALDESC:Events for No Prep Racing
REFRESH-INTERVAL;VALUE=DURATION:PT1H
X-Robots-Tag:noindex
X-PUBLISHED-TTL:PT1H
BEGIN:VTIMEZONE
TZID:America/Chicago
BEGIN:DAYLIGHT
TZOFFSETFROM:-0600
TZOFFSETTO:-0500
TZNAME:CDT
DTSTART:20220313T080000
END:DAYLIGHT
BEGIN:STANDARD
TZOFFSETFROM:-0500
TZOFFSETTO:-0600
TZNAME:CST
DTSTART:20221106T070000
END:STANDARD
BEGIN:DAYLIGHT
TZOFFSETFROM:-0600
TZOFFSETTO:-0500
TZNAME:CDT
DTSTART:20230312T080000
END:DAYLIGHT
BEGIN:STANDARD
TZOFFSETFROM:-0500
TZOFFSETTO:-0600
TZNAME:CST
DTSTART:20231105T070000
END:STANDARD
BEGIN:DAYLIGHT
TZOFFSETFROM:-0600
TZOFFSETTO:-0500
TZNAME:CDT
DTSTART:20240310T080000
END:DAYLIGHT
BEGIN:STANDARD
TZOFFSETFROM:-0500
TZOFFSETTO:-0600
TZNAME:CST
DTSTART:20241103T070000
END:STANDARD
END:VTIMEZONE
BEGIN:VEVENT
DTSTART;VALUE=DATE:20230218
DTEND;VALUE=DATE:20230219
DTSTAMP:20260419T184403
CREATED:20230217T160243Z
LAST-MODIFIED:20230217T160250Z
UID:10000117-1676678400-1676764799@www.noprep.com
SUMMARY:King of the wood back side No Prep Race
DESCRIPTION:King of the wood back side no prep race \nCottonwood Dragways first backside no prep race\n5k Guaranteed RWYB 28’s no w’s\n3.5k Guaranteed for Mod street\n1.5k Guaranteed for Daily driver
URL:https://www.noprep.com/event/king-of-the-wood-back-side-no-prep-race/
LOCATION:Cottonwood Dragway\, 426 Bud Moore Rd\, Ashford\, AL\, 36312
CATEGORIES:No Prep Racing Events
ATTACH;FMTTYPE=image/jpeg:https://www.noprep.com/wp-content/uploads/2023/02/329775621_893447811941010_4921519124380898488_n.jpg
GEO:31.1000937;-85.2747591
X-APPLE-STRUCTURED-LOCATION;VALUE=URI;X-ADDRESS=Cottonwood Dragway 426 Bud Moore Rd Ashford AL 36312;X-APPLE-RADIUS=500;X-TITLE=426 Bud Moore Rd:geo:-85.2747591,31.1000937
END:VEVENT
END:VCALENDAR