BEGIN:VCALENDAR
VERSION:2.0
PRODID:-//No Prep Racing - ECPv6.15.20//NONSGML v1.0//EN
CALSCALE:GREGORIAN
METHOD:PUBLISH
X-WR-CALNAME:No Prep Racing
X-ORIGINAL-URL:https://www.noprep.com
X-WR-CALDESC:Events for No Prep Racing
REFRESH-INTERVAL;VALUE=DURATION:PT1H
X-Robots-Tag:noindex
X-PUBLISHED-TTL:PT1H
BEGIN:VTIMEZONE
TZID:America/Chicago
BEGIN:DAYLIGHT
TZOFFSETFROM:-0600
TZOFFSETTO:-0500
TZNAME:CDT
DTSTART:20230312T080000
END:DAYLIGHT
BEGIN:STANDARD
TZOFFSETFROM:-0500
TZOFFSETTO:-0600
TZNAME:CST
DTSTART:20231105T070000
END:STANDARD
BEGIN:DAYLIGHT
TZOFFSETFROM:-0600
TZOFFSETTO:-0500
TZNAME:CDT
DTSTART:20240310T080000
END:DAYLIGHT
BEGIN:STANDARD
TZOFFSETFROM:-0500
TZOFFSETTO:-0600
TZNAME:CST
DTSTART:20241103T070000
END:STANDARD
BEGIN:DAYLIGHT
TZOFFSETFROM:-0600
TZOFFSETTO:-0500
TZNAME:CDT
DTSTART:20250309T080000
END:DAYLIGHT
BEGIN:STANDARD
TZOFFSETFROM:-0500
TZOFFSETTO:-0600
TZNAME:CST
DTSTART:20251102T070000
END:STANDARD
END:VTIMEZONE
BEGIN:VEVENT
DTSTART;VALUE=DATE:20240309
DTEND;VALUE=DATE:20240311
DTSTAMP:20260419T133406
CREATED:20240306T175807Z
LAST-MODIFIED:20240306T175815Z
UID:10000166-1709942400-1710115199@www.noprep.com
SUMMARY:Kye Kelley's Guaranteed $12K Pay Day at Montgomery International Dragway
DESCRIPTION:Kye Kell’s Guaranteed $12K Pay Day at Montgomery! \nWe are racing this weekend! The event is scheduled for Saturday\, March 9. If it rains Saturday\, we will move the event to Sunday\, March 10!\nTickets: https://tickets.thefoat.com/…/tickets/id-vJScX0v_SESH/?\nHere’s the official flyer! Kye Kelley and Montgomery present $10\,000 Guaranteed OPEN to ALL No Prep Event\, March 9th. Kye will be racing the Shocker in competition!!\nThe “12K Pay Day” No Prep event is open to all\, no invitation is needed. Small tire Run What You Brung\, True Street\, Daily Driver\, 6.00\, and 7.00 Index!
URL:https://www.noprep.com/event/kye-kelleys-guaranteed-12k-pay-day-at-montgomery-international-dragway/
LOCATION:Montgomery International Dragway\, 2600 N Belt Dr\, Montgomery\, AL\, 36110\, United States
CATEGORIES:No Prep Racing Events
ATTACH;FMTTYPE=image/jpeg:https://www.noprep.com/wp-content/uploads/2024/03/429966788_407939071966305_6170860753419456285_n.jpg
GEO:32.4322768;-86.2520276
X-APPLE-STRUCTURED-LOCATION;VALUE=URI;X-ADDRESS=Montgomery International Dragway 2600 N Belt Dr Montgomery AL 36110 United States;X-APPLE-RADIUS=500;X-TITLE=2600 N Belt Dr:geo:-86.2520276,32.4322768
END:VEVENT
BEGIN:VEVENT
DTSTART;VALUE=DATE:20240209
DTEND;VALUE=DATE:20240211
DTSTAMP:20260419T133406
CREATED:20240209T152632Z
LAST-MODIFIED:20240209T152635Z
UID:10000147-1707436800-1707609599@www.noprep.com
SUMMARY:Mardi Gras No Prep Shootout Gulfport Dragway
DESCRIPTION: The 2nd Annual Mardi Gras No Prep Shootout STARTS TODAY Feb 9/10. \n\n\nFriday Feb 9\nFrontside Test n Tune + Backside Race w/ BJ from Nola on the Light. $25 for Test-n-Tune.\n– BJ from NOLA will be on the light for Backside Race.\n\n\nSaturday Feb 10\nFrontside Racing off of .400 Pro Tree (except 6.50 and 7.00 Index – .500 Pro Tree)\n$10\,000.00 to WIN GUARANTEED in Small Tire\n\n\n-Gates Open- 10am\n-Chip Draw- 1pm\n-7.0/6.50 will receive a time run.
URL:https://www.noprep.com/event/mardi-gras-no-prep-shootout-gulfport-dragway/
LOCATION:Gulfport Dragway
CATEGORIES:No Prep Racing Events
ATTACH;FMTTYPE=image/jpeg:https://www.noprep.com/wp-content/uploads/2024/02/426205662_914147206748029_7057894656085893847_n.jpg
END:VEVENT
END:VCALENDAR