BEGIN:VCALENDAR
VERSION:2.0
PRODID:-//No Prep Racing - ECPv6.15.20//NONSGML v1.0//EN
CALSCALE:GREGORIAN
METHOD:PUBLISH
X-WR-CALNAME:No Prep Racing
X-ORIGINAL-URL:https://www.noprep.com
X-WR-CALDESC:Events for No Prep Racing
REFRESH-INTERVAL;VALUE=DURATION:PT1H
X-Robots-Tag:noindex
X-PUBLISHED-TTL:PT1H
BEGIN:VTIMEZONE
TZID:America/Chicago
BEGIN:DAYLIGHT
TZOFFSETFROM:-0600
TZOFFSETTO:-0500
TZNAME:CDT
DTSTART:20210314T080000
END:DAYLIGHT
BEGIN:STANDARD
TZOFFSETFROM:-0500
TZOFFSETTO:-0600
TZNAME:CST
DTSTART:20211107T070000
END:STANDARD
BEGIN:DAYLIGHT
TZOFFSETFROM:-0600
TZOFFSETTO:-0500
TZNAME:CDT
DTSTART:20220313T080000
END:DAYLIGHT
BEGIN:STANDARD
TZOFFSETFROM:-0500
TZOFFSETTO:-0600
TZNAME:CST
DTSTART:20221106T070000
END:STANDARD
BEGIN:DAYLIGHT
TZOFFSETFROM:-0600
TZOFFSETTO:-0500
TZNAME:CDT
DTSTART:20230312T080000
END:DAYLIGHT
BEGIN:STANDARD
TZOFFSETFROM:-0500
TZOFFSETTO:-0600
TZNAME:CST
DTSTART:20231105T070000
END:STANDARD
END:VTIMEZONE
BEGIN:VEVENT
DTSTART;VALUE=DATE:20220204
DTEND;VALUE=DATE:20220206
DTSTAMP:20260420T021747
CREATED:20220122T190627Z
LAST-MODIFIED:20220122T190827Z
UID:10000011-1643932800-1644105599@www.noprep.com
SUMMARY:Street Car Takeover Bradenton Feb 4th-5th 2022
DESCRIPTION:Street Car Takeover coming to Bradenton Florida at Bradenton Motorsports Park February 4-5th 2022!\nStreet Car Takeover Bradenton Feb 4-5th with TWO days of racing action!\nFriday Feb. 4th 2022\n-Roll racing\n-$20/spectate $35/Friday-Sat spectator pass pre sale price (goes up $5 at the gate)\n-$50 for single day racer tech card\, classes are extra $50-$100 depending on class. Weekend tech card for Friday and weekend tech card is $80 pre sale or $90 at the gate\n-Kids 12 and under are FREE\n-VIP Pit parking $10/car per day\n-Bradenton Motorsports Park\n-Gates open at 3pm for racers\n-Tech starts at 3:30pm\n-Gates open at 5pm for spectators\n-Drivers meeting 6:00pm at starting line\n-Track goes hot after drivers meeting for open roll testing\n-Eliminations start at 7:30pm with test n tune rolls between rounds\n-Racing ends at 11:00pm or when eliminations are finished.\nFriday Roll Racing classes:\n-King of the Bakery (Unlimited street car class open to all street cars and no MPH limit)\n-Modified Street (150mph cap\, street cars only\, no sand bagging)\n-Mild Street (140mph cap\, street cars only\, no sand bagging)\n-Daily Street 130mph Class\nRoll racing rules\n-Street cars only in competition classes\, full rules at www.streetcar-takeover.com\n-40mph start just beyond the tree. 1/4 mile marker is finish line. (1300ft)\n-First to the finish line is winner\nSaturday Feb. 5th 2022\n-Drag Racing\n-Bradenton Motorsports Park\n-$20 to spectate (goes up $5 at gate)\n-$50 for tech card (goes up $10 at gate)\n-Kids 12 and under FREE\n-Gates open at 8am for racers\n-Gates open at 10am for spectators\n-VIP Pit parking $10/car/day\n-Show n Shine area open to VIP pass vehicles\n-Drivers meeting 11am at SCT Booth\n-Track goes hot for testing after drivers meeting\n-Street Racer class qualifying 11:30am\n-Open testing 11:30am-2:00pm\n-Eliminations start at 2:30pm\n-Open testing between rounds\n-9pm racing ends or until eliminations are done.\nDrag Racing classes:\n-Monster Clutch Co. Stick Shift Class\n-Extreme Street 10.00 Index\n-Daily Driver 11.00 Index\n-Daily Driver Mild 12.00 Index\n-FWD Heads Up\n-DCT Class (any factory DCT vehicle)\n-Heavyweight Class ( heads up\, 4\,200lb race weight\n-Street Racer Heads up (Class will be split into three groups based on 1 qualifying round much like FL2K)\n-Small Tire 1/8th N/T\nClass Payouts are GUARANTEED as follows:\nRoll Racing Payouts:\n-Roll Classes will be split into 4 groups after a two rounds of qualifying. All payouts are split 80/20 with winner and runner up.\n-King of The Bakery $1\,500\n-Modified Street $1\,000\n-Mild Street $750\n-Daily Street $500\nDrag Racing Payouts: All payouts are split 80/20 with winner and runner up\n-Street Racer will be split into three groups based off qualifying\n-Street Racer Heads Up $3\,000\n-Street Racer Mild $1\,500\n-Street Racer Daily $1\,000\n———————————–\n-Small Tire 1/8 N/T $3\,500\n-Monster Clutch Co. Stick Shift $1\,500\n-Heavyweight Class $1\,000\n-DCT Class $1\,000\n-FWD Class $1\,000\n-Extreme Street 10.00 Index $850\n-Daily Driver 11.00 Index $750\n-Daily Driver Mild 12.00 Index $500\nDrag Racing Rules:\n-.400 Pro Tree\n-Must meet NHRA safety rules\n-Courtesy staging enforced\n-Pairings are done at random by chip draw during eliminations\n-Index classes are instant green\n-Deep Staging allowed\n-Auto Start on\nSee all rules at www.streetcar-takeover.com
URL:https://www.noprep.com/event/street-car-takeover-fl/
LOCATION:Bradenton Motorsports Park\, United States
CATEGORIES:Prepped Racing Events
ATTACH;FMTTYPE=image/jpeg:https://www.noprep.com/wp-content/uploads/2022/01/Street_Car_Takeover_2022.jpg
ORGANIZER;CN="Bradenton Motorsports Park":MAILTO:info@bradentonmotorsports.com
END:VEVENT
END:VCALENDAR