BEGIN:VCALENDAR
VERSION:2.0
PRODID:-//No Prep Racing - ECPv6.15.20//NONSGML v1.0//EN
CALSCALE:GREGORIAN
METHOD:PUBLISH
X-ORIGINAL-URL:https://www.noprep.com
X-WR-CALDESC:Events for No Prep Racing
REFRESH-INTERVAL;VALUE=DURATION:PT1H
X-Robots-Tag:noindex
X-PUBLISHED-TTL:PT1H
BEGIN:VTIMEZONE
TZID:America/Chicago
BEGIN:DAYLIGHT
TZOFFSETFROM:-0600
TZOFFSETTO:-0500
TZNAME:CDT
DTSTART:20220313T080000
END:DAYLIGHT
BEGIN:STANDARD
TZOFFSETFROM:-0500
TZOFFSETTO:-0600
TZNAME:CST
DTSTART:20221106T070000
END:STANDARD
BEGIN:DAYLIGHT
TZOFFSETFROM:-0600
TZOFFSETTO:-0500
TZNAME:CDT
DTSTART:20230312T080000
END:DAYLIGHT
BEGIN:STANDARD
TZOFFSETFROM:-0500
TZOFFSETTO:-0600
TZNAME:CST
DTSTART:20231105T070000
END:STANDARD
BEGIN:DAYLIGHT
TZOFFSETFROM:-0600
TZOFFSETTO:-0500
TZNAME:CDT
DTSTART:20240310T080000
END:DAYLIGHT
BEGIN:STANDARD
TZOFFSETFROM:-0500
TZOFFSETTO:-0600
TZNAME:CST
DTSTART:20241103T070000
END:STANDARD
END:VTIMEZONE
BEGIN:VEVENT
DTSTART;VALUE=DATE:20231110
DTEND;VALUE=DATE:20231113
DTSTAMP:20260419T135002
CREATED:20230911T150627Z
LAST-MODIFIED:20231107T194418Z
UID:10000132-1699574400-1699833599@www.noprep.com
SUMMARY:Race Palooza - THE BIGGEST MOTORSPORTS EVENT IN HISTORY
DESCRIPTION:Ticketing is NOW OPEN to RACEPALOOZA\, the Biggest Motorsports Event in History coming to NOLA Motorsports Park on November 10-12!\nDon’t miss out on this glorious weekend that celebrates combustion where the payouts are huge and the family fun extreme \nStreet Outlaws | Hoonigan | Formula Drift | Nitro Cars | Motocross | Top Fuel | Extreme Circus | Air Show | Monster Trucks | Jet Cars | Live Music | …and so much more! \nCertain ticket types are Extremely Limited. Don’t be stuck at home. Get your tickets now before they SELL OUT! \nFRIDAY for VIP Tickets Only\n\nStreet Outlaws Invitational\nHoonigan\nStreet Outlaws Dragstrip Burnout Contest\nMonster Truck 1/8 Mile Racing\nTop Fuel Burnout Contest\nNuclear Stunt Girls\nDrag Sleds\nJet Car Racing\nRacers and Fans Welcome Party\nFireworks Spectacular\n\n\n\n\nSATURDAY\n\nStreet Outlaws Invitational\nFormula Drift\nHoonigan Burnyard\nHarley Stunt Show\nExtreme Moto Circus\nFreestyle Motocross\nGlobe of Death\nHuman Cannonball World Record Attempt\nMonster Truck MPH Record Attempt\nNitro Side Show – Everything Nitro\nJet Car Battle\nConcert\n\n\n\n\nSUNDAY\n\nStreet Outlaws Invitational Finals\nHoonigan Burnyard\nFormula Drift\nStreet Outlaws Wheelie Challenge\nAir Show Extreme\nDrag Sleds\nNitro Dragster vs Funnuy Cars Battle\nSkydiving Acrobats\nFreestyle Monster Trucks\nMonster Truck Racing\nTop Fuel Pro Mods\nJet Car MPH Record Attempt\nClosing show fireworks
URL:https://www.noprep.com/event/race-palooza-the-biggest-motorsports-event-in-history/
LOCATION:NOLA MOTORSPORTS PARK\, LA\, United States
CATEGORIES:No Prep Racing Events,Prepped Racing Events
ATTACH;FMTTYPE=image/jpeg:https://www.noprep.com/wp-content/uploads/2023/09/368840055_122105369252010201_1573985536387072608_n.jpg
END:VEVENT
END:VCALENDAR