BEGIN:VCALENDAR
VERSION:2.0
PRODID:-//No Prep Racing - ECPv6.15.20//NONSGML v1.0//EN
CALSCALE:GREGORIAN
METHOD:PUBLISH
X-WR-CALNAME:No Prep Racing
X-ORIGINAL-URL:https://www.noprep.com
X-WR-CALDESC:Events for No Prep Racing
REFRESH-INTERVAL;VALUE=DURATION:PT1H
X-Robots-Tag:noindex
X-PUBLISHED-TTL:PT1H
BEGIN:VTIMEZONE
TZID:America/Chicago
BEGIN:DAYLIGHT
TZOFFSETFROM:-0600
TZOFFSETTO:-0500
TZNAME:CDT
DTSTART:20220313T080000
END:DAYLIGHT
BEGIN:STANDARD
TZOFFSETFROM:-0500
TZOFFSETTO:-0600
TZNAME:CST
DTSTART:20221106T070000
END:STANDARD
BEGIN:DAYLIGHT
TZOFFSETFROM:-0600
TZOFFSETTO:-0500
TZNAME:CDT
DTSTART:20230312T080000
END:DAYLIGHT
BEGIN:STANDARD
TZOFFSETFROM:-0500
TZOFFSETTO:-0600
TZNAME:CST
DTSTART:20231105T070000
END:STANDARD
BEGIN:DAYLIGHT
TZOFFSETFROM:-0600
TZOFFSETTO:-0500
TZNAME:CDT
DTSTART:20240310T080000
END:DAYLIGHT
BEGIN:STANDARD
TZOFFSETFROM:-0500
TZOFFSETTO:-0600
TZNAME:CST
DTSTART:20241103T070000
END:STANDARD
END:VTIMEZONE
BEGIN:VEVENT
DTSTART;VALUE=DATE:20231020
DTEND;VALUE=DATE:20231022
DTSTAMP:20260419T135010
CREATED:20230502T001308Z
LAST-MODIFIED:20230502T001426Z
UID:10000127-1697760000-1697932799@www.noprep.com
SUMMARY:Street Outlaws No Prep Kings Alabama International Dragway
DESCRIPTION:Street Outlaws No Prep Kings Alabama International Dragway
URL:https://www.noprep.com/event/street-outlaws-no-prep-kings-alabama-international-dragway/
LOCATION:Alabama International Dragway\, Steele Station Rd\, Steele\, AL\, 35987\, United States
CATEGORIES:No Prep Racing Events
ATTACH;FMTTYPE=image/png:https://www.noprep.com/wp-content/uploads/2023/02/No-Prep-Logo-1068x601-2.png
GEO:33.9258125;-86.1986875
X-APPLE-STRUCTURED-LOCATION;VALUE=URI;X-ADDRESS=Alabama International Dragway Steele Station Rd Steele AL 35987 United States;X-APPLE-RADIUS=500;X-TITLE=Steele Station Rd:geo:-86.1986875,33.9258125
END:VEVENT
END:VCALENDAR