BEGIN:VCALENDAR
VERSION:2.0
PRODID:-//No Prep Racing - ECPv6.15.20//NONSGML v1.0//EN
CALSCALE:GREGORIAN
METHOD:PUBLISH
X-ORIGINAL-URL:https://www.noprep.com
X-WR-CALDESC:Events for No Prep Racing
REFRESH-INTERVAL;VALUE=DURATION:PT1H
X-Robots-Tag:noindex
X-PUBLISHED-TTL:PT1H
BEGIN:VTIMEZONE
TZID:America/Chicago
BEGIN:DAYLIGHT
TZOFFSETFROM:-0600
TZOFFSETTO:-0500
TZNAME:CDT
DTSTART:20220313T080000
END:DAYLIGHT
BEGIN:STANDARD
TZOFFSETFROM:-0500
TZOFFSETTO:-0600
TZNAME:CST
DTSTART:20221106T070000
END:STANDARD
BEGIN:DAYLIGHT
TZOFFSETFROM:-0600
TZOFFSETTO:-0500
TZNAME:CDT
DTSTART:20230312T080000
END:DAYLIGHT
BEGIN:STANDARD
TZOFFSETFROM:-0500
TZOFFSETTO:-0600
TZNAME:CST
DTSTART:20231105T070000
END:STANDARD
BEGIN:DAYLIGHT
TZOFFSETFROM:-0600
TZOFFSETTO:-0500
TZNAME:CDT
DTSTART:20240310T080000
END:DAYLIGHT
BEGIN:STANDARD
TZOFFSETFROM:-0500
TZOFFSETTO:-0600
TZNAME:CST
DTSTART:20241103T070000
END:STANDARD
END:VTIMEZONE
BEGIN:VEVENT
DTSTART;VALUE=DATE:20230630
DTEND;VALUE=DATE:20230702
DTSTAMP:20260419T172921
CREATED:20230206T195809Z
LAST-MODIFIED:20230220T215020Z
UID:10000113-1688083200-1688255999@www.noprep.com
SUMMARY:Street Outlaws No Prep Kings New England Dragway
DESCRIPTION:Street Outlaws No Prep Kings New England Dragway \nStreet Outlaws No Prep Kings New England Dragway\n 
URL:https://www.noprep.com/event/street-outlaws-no-prep-kings-new-england-dragway/
LOCATION:New England Dragway\, 280 Exeter Rd\, Epping\, NH\, United States
CATEGORIES:No Prep Racing Events
ATTACH;FMTTYPE=image/png:https://www.noprep.com/wp-content/uploads/2023/02/No-Prep-Logo-1068x601-2.png
GEO:43.0258165;-71.0232123
X-APPLE-STRUCTURED-LOCATION;VALUE=URI;X-ADDRESS=New England Dragway 280 Exeter Rd Epping NH United States;X-APPLE-RADIUS=500;X-TITLE=280 Exeter Rd:geo:-71.0232123,43.0258165
END:VEVENT
END:VCALENDAR