BEGIN:VCALENDAR
VERSION:2.0
PRODID:-//No Prep Racing - ECPv6.15.20//NONSGML v1.0//EN
CALSCALE:GREGORIAN
METHOD:PUBLISH
X-WR-CALNAME:No Prep Racing
X-ORIGINAL-URL:https://www.noprep.com
X-WR-CALDESC:Events for No Prep Racing
REFRESH-INTERVAL;VALUE=DURATION:PT1H
X-Robots-Tag:noindex
X-PUBLISHED-TTL:PT1H
BEGIN:VTIMEZONE
TZID:America/Chicago
BEGIN:DAYLIGHT
TZOFFSETFROM:-0600
TZOFFSETTO:-0500
TZNAME:CDT
DTSTART:20190310T080000
END:DAYLIGHT
BEGIN:STANDARD
TZOFFSETFROM:-0500
TZOFFSETTO:-0600
TZNAME:CST
DTSTART:20191103T070000
END:STANDARD
BEGIN:DAYLIGHT
TZOFFSETFROM:-0600
TZOFFSETTO:-0500
TZNAME:CDT
DTSTART:20200308T080000
END:DAYLIGHT
BEGIN:STANDARD
TZOFFSETFROM:-0500
TZOFFSETTO:-0600
TZNAME:CST
DTSTART:20201101T070000
END:STANDARD
BEGIN:DAYLIGHT
TZOFFSETFROM:-0600
TZOFFSETTO:-0500
TZNAME:CDT
DTSTART:20210314T080000
END:DAYLIGHT
BEGIN:STANDARD
TZOFFSETFROM:-0500
TZOFFSETTO:-0600
TZNAME:CST
DTSTART:20211107T070000
END:STANDARD
END:VTIMEZONE
BEGIN:VEVENT
DTSTART;VALUE=DATE:20200522
DTEND;VALUE=DATE:20200524
DTSTAMP:20260421T010607
CREATED:20200430T015121Z
LAST-MODIFIED:20200430T015123Z
UID:10000054-1590105600-1590278399@www.noprep.com
SUMMARY:Alamo Memorial No Prep Race
DESCRIPTION:Are y’all ready for some NO PREP racing!! How about come knock the cob webs off May 22-23 right here in San Antonio.\nNO PREP 10k to win Big Tire and 10k for Small Tire!!\nCall Rodney Rocha +1 (830) 822-0322 for questions and details
URL:https://www.noprep.com/event/alamo-memorial-no-prep-race/
LOCATION:Alamo City Motorplex\, 3641 S Santa Clara Rd\, Marion\, TX\, 78124\, United States
CATEGORIES:No Prep Racing Events
ATTACH;FMTTYPE=image/jpeg:https://www.noprep.com/wp-content/uploads/2020/04/FB_IMG_1588210855687.jpg
GEO:29.5235046;-98.1389373
X-APPLE-STRUCTURED-LOCATION;VALUE=URI;X-ADDRESS=Alamo City Motorplex 3641 S Santa Clara Rd Marion TX 78124 United States;X-APPLE-RADIUS=500;X-TITLE=3641 S Santa Clara Rd:geo:-98.1389373,29.5235046
END:VEVENT
END:VCALENDAR