BEGIN:VCALENDAR
VERSION:2.0
PRODID:-//No Prep Racing - ECPv6.15.20//NONSGML v1.0//EN
CALSCALE:GREGORIAN
METHOD:PUBLISH
X-WR-CALNAME:No Prep Racing
X-ORIGINAL-URL:https://www.noprep.com
X-WR-CALDESC:Events for No Prep Racing
REFRESH-INTERVAL;VALUE=DURATION:PT1H
X-Robots-Tag:noindex
X-PUBLISHED-TTL:PT1H
BEGIN:VTIMEZONE
TZID:America/Chicago
BEGIN:DAYLIGHT
TZOFFSETFROM:-0600
TZOFFSETTO:-0500
TZNAME:CDT
DTSTART:20210314T080000
END:DAYLIGHT
BEGIN:STANDARD
TZOFFSETFROM:-0500
TZOFFSETTO:-0600
TZNAME:CST
DTSTART:20211107T070000
END:STANDARD
BEGIN:DAYLIGHT
TZOFFSETFROM:-0600
TZOFFSETTO:-0500
TZNAME:CDT
DTSTART:20220313T080000
END:DAYLIGHT
BEGIN:STANDARD
TZOFFSETFROM:-0500
TZOFFSETTO:-0600
TZNAME:CST
DTSTART:20221106T070000
END:STANDARD
BEGIN:DAYLIGHT
TZOFFSETFROM:-0600
TZOFFSETTO:-0500
TZNAME:CDT
DTSTART:20230312T080000
END:DAYLIGHT
BEGIN:STANDARD
TZOFFSETFROM:-0500
TZOFFSETTO:-0600
TZNAME:CST
DTSTART:20231105T070000
END:STANDARD
BEGIN:DAYLIGHT
TZOFFSETFROM:-0600
TZOFFSETTO:-0500
TZNAME:CDT
DTSTART:20240310T080000
END:DAYLIGHT
BEGIN:STANDARD
TZOFFSETFROM:-0500
TZOFFSETTO:-0600
TZNAME:CST
DTSTART:20241103T070000
END:STANDARD
END:VTIMEZONE
BEGIN:VEVENT
DTSTART;VALUE=DATE:20230908
DTEND;VALUE=DATE:20230910
DTSTAMP:20260420T182523
CREATED:20230227T203102Z
LAST-MODIFIED:20230227T203130Z
UID:10000120-1694131200-1694303999@www.noprep.com
SUMMARY:Street Outlaws No Prep Kings Bandimere Speedway
DESCRIPTION:Street Outlaws No Prep Kings Bandimere Speedway
URL:https://www.noprep.com/event/street-outlaws-no-prep-kings-bandimere-speedway/
LOCATION:Bandimere Speedway\, 3051 S Rooney Rd\, CO\, 80465\, United States
CATEGORIES:No Prep Racing Events
ATTACH;FMTTYPE=image/jpeg:https://www.noprep.com/wp-content/uploads/2023/01/event_banner_1674935213e9a4c0c32da.jpg
GEO:39.6615648;-105.1850428
X-APPLE-STRUCTURED-LOCATION;VALUE=URI;X-ADDRESS=Bandimere Speedway 3051 S Rooney Rd CO 80465 United States;X-APPLE-RADIUS=500;X-TITLE=3051 S Rooney Rd:geo:-105.1850428,39.6615648
END:VEVENT
BEGIN:VEVENT
DTSTART;VALUE=DATE:20220916
DTEND;VALUE=DATE:20220918
DTSTAMP:20260420T182523
CREATED:20220125T194605Z
LAST-MODIFIED:20220125T195111Z
UID:10000075-1663286400-1663459199@www.noprep.com
SUMMARY:Street Outlaws No Prep Kings Season 5 2022 Bandimere Speedway
DESCRIPTION:Street Outlaws No Prep Kings Season 5 2022 Bandimere Speedway
URL:https://www.noprep.com/event/street-outlaws-no-prep-kings-season-5-2022-bandimere-speedway/
LOCATION:Bandimere Speedway\, 3051 S Rooney Rd\, CO\, 80465\, United States
CATEGORIES:No Prep Racing Events
ATTACH;FMTTYPE=image/jpeg:https://www.noprep.com/wp-content/uploads/2022/01/NOPREPKINGS-scaled.jpg
GEO:39.6615648;-105.1850428
X-APPLE-STRUCTURED-LOCATION;VALUE=URI;X-ADDRESS=Bandimere Speedway 3051 S Rooney Rd CO 80465 United States;X-APPLE-RADIUS=500;X-TITLE=3051 S Rooney Rd:geo:-105.1850428,39.6615648
END:VEVENT
END:VCALENDAR