BEGIN:VCALENDAR
VERSION:2.0
PRODID:-//No Prep Racing - ECPv6.15.20//NONSGML v1.0//EN
CALSCALE:GREGORIAN
METHOD:PUBLISH
X-ORIGINAL-URL:https://www.noprep.com
X-WR-CALDESC:Events for No Prep Racing
REFRESH-INTERVAL;VALUE=DURATION:PT1H
X-Robots-Tag:noindex
X-PUBLISHED-TTL:PT1H
BEGIN:VTIMEZONE
TZID:America/Chicago
BEGIN:DAYLIGHT
TZOFFSETFROM:-0600
TZOFFSETTO:-0500
TZNAME:CDT
DTSTART:20210314T080000
END:DAYLIGHT
BEGIN:STANDARD
TZOFFSETFROM:-0500
TZOFFSETTO:-0600
TZNAME:CST
DTSTART:20211107T070000
END:STANDARD
BEGIN:DAYLIGHT
TZOFFSETFROM:-0600
TZOFFSETTO:-0500
TZNAME:CDT
DTSTART:20220313T080000
END:DAYLIGHT
BEGIN:STANDARD
TZOFFSETFROM:-0500
TZOFFSETTO:-0600
TZNAME:CST
DTSTART:20221106T070000
END:STANDARD
BEGIN:DAYLIGHT
TZOFFSETFROM:-0600
TZOFFSETTO:-0500
TZNAME:CDT
DTSTART:20230312T080000
END:DAYLIGHT
BEGIN:STANDARD
TZOFFSETFROM:-0500
TZOFFSETTO:-0600
TZNAME:CST
DTSTART:20231105T070000
END:STANDARD
END:VTIMEZONE
BEGIN:VEVENT
DTSTART;VALUE=DATE:20220129
DTEND;VALUE=DATE:20220130
DTSTAMP:20260420T000650
CREATED:20220112T210447Z
LAST-MODIFIED:20220113T161437Z
UID:10000023-1643414400-1643500799@www.noprep.com
SUMMARY:WFO STRAIGHT OFF THE TRAILER NO PREP
DESCRIPTION:WFO STRAIGHT OFF THE TRAILER NO PREP\nWFO No Prep\nGates open at Noon\nDrivers Meeting Chip Draw 2:00PM\nAll races are straight off the trailer\n“NO TEST PASSES”\nBig Tire\nAnything Goes!\nEntry $100\nPayout $500 added\nSmall Tire\nNo Bars\n29.5 x 10.5 No W\nNo Traction Control\nEntry $100\nPayout $500 added\nStreet Car\nDOT Tires\nMust have Registration\nEntry $50\nPayout $250 added\nAWD\nAnything Goes\nEntry $100\nPayout 100%\nInstant Green\nChase is a race\nFirst is worse\nCross center in front OUT\ncross behind OKAY\nWater only burnout\nBuy Back any round Double entry \nGeneral admission\n$15.00
URL:https://www.noprep.com/event/wfo-straight-off-the-trailer-no-prep/
LOCATION:Little River Dragway\, 13314 State Highway 95\, Holland\, TX\, 76534\, United States
CATEGORIES:No Prep Racing Events
ATTACH;FMTTYPE=image/jpeg:https://www.noprep.com/wp-content/uploads/2022/01/271734078_1813684148823304_8330910673213103182_n.jpg
GEO:30.960826;-97.349728
X-APPLE-STRUCTURED-LOCATION;VALUE=URI;X-ADDRESS=Little River Dragway 13314 State Highway 95 Holland TX 76534 United States;X-APPLE-RADIUS=500;X-TITLE=13314 State Highway 95:geo:-97.349728,30.960826
END:VEVENT
END:VCALENDAR