BEGIN:VCALENDAR
VERSION:2.0
PRODID:-//No Prep Racing - ECPv6.15.20//NONSGML v1.0//EN
CALSCALE:GREGORIAN
METHOD:PUBLISH
X-ORIGINAL-URL:https://www.noprep.com
X-WR-CALDESC:Events for No Prep Racing
REFRESH-INTERVAL;VALUE=DURATION:PT1H
X-Robots-Tag:noindex
X-PUBLISHED-TTL:PT1H
BEGIN:VTIMEZONE
TZID:America/Chicago
BEGIN:DAYLIGHT
TZOFFSETFROM:-0600
TZOFFSETTO:-0500
TZNAME:CDT
DTSTART:20230312T080000
END:DAYLIGHT
BEGIN:STANDARD
TZOFFSETFROM:-0500
TZOFFSETTO:-0600
TZNAME:CST
DTSTART:20231105T070000
END:STANDARD
BEGIN:DAYLIGHT
TZOFFSETFROM:-0600
TZOFFSETTO:-0500
TZNAME:CDT
DTSTART:20240310T080000
END:DAYLIGHT
BEGIN:STANDARD
TZOFFSETFROM:-0500
TZOFFSETTO:-0600
TZNAME:CST
DTSTART:20241103T070000
END:STANDARD
BEGIN:DAYLIGHT
TZOFFSETFROM:-0600
TZOFFSETTO:-0500
TZNAME:CDT
DTSTART:20250309T080000
END:DAYLIGHT
BEGIN:STANDARD
TZOFFSETFROM:-0500
TZOFFSETTO:-0600
TZNAME:CST
DTSTART:20251102T070000
END:STANDARD
BEGIN:DAYLIGHT
TZOFFSETFROM:-0600
TZOFFSETTO:-0500
TZNAME:CDT
DTSTART:20260308T080000
END:DAYLIGHT
BEGIN:STANDARD
TZOFFSETFROM:-0500
TZOFFSETTO:-0600
TZNAME:CST
DTSTART:20261101T070000
END:STANDARD
END:VTIMEZONE
BEGIN:VEVENT
DTSTART;VALUE=DATE:20251114
DTEND;VALUE=DATE:20251116
DTSTAMP:20260425T144602
CREATED:20250924T142709Z
LAST-MODIFIED:20250924T145643Z
UID:10000217-1763078400-1763251199@www.noprep.com
SUMMARY:NO PREP HEIST VOLUME 1 YELLOW BELLY DRAG STRIP
DESCRIPTION:📍 Event Info \nNo Prep Heist Vol. 1 \n🗓 November 14–15\, 2025 \n📍 4702 E Main St\, Grand Prairie\, TX 75050 \nAdmission:\n$30/day admission\n$100 VIP parking\n$50 starting line access\n$20 tech car \nGates & Meetings:\nRacer gates: Friday @ 12PM | Saturday @ 9AM\nSpectator gates: Friday @ 4PM | Saturday @ 11AM\nDriver’s meeting: Friday @\n7:30PM | Saturday @ 2PM \n🏁 Class Rules\nDaily Driver\n$200 Buy In + sponsor on top\nRegistered / Tagged / Insured\nMust make 20–30 mile cruise\nWorking headlights & tail lights\nAll glass\, all steel (hood & trunk OK unless factory)\nAny power adder\nMust have two front seats padded\nMust have full interior & working radio (rear seat delete OK\, both front seats required)\nFunctioning roll-up windows & side mirrors\nAny transmission\n15×10.5 wheel max. No spindle mount (17in and bigger wheels allowed any size)\nStock location suspension (rear coilovers moved on rearend OK)\nNo funny car cage\nNo tubular front ends\nNo mini tubs\nNo lightweight steering columns\nFuel cell 8 gal minimum if aftermarket \n7.0 Index\n$100 Buy In + sponsor on top\nFootbrake only\nNo throttle stops\nPro tree NT / No tickets \n6.0 Index\n$100 Buy In + sponsor on top\nTransbrakes allowed\nNo throttle stops\nPro tree NT / No tickets \nLil 5.30\n$200 Buy In + sponsor on top\n5.30 cap\nAny car/truck\n275/315 or smaller tire\nDoor car only\nPro tree / No time / No tickets \nTailgate\n$200 Buy In + sponsor on top\nTruck\, SUV\, or wagon\nSingle power adder (no turbos with nitrous\, etc.)\nRadials or slicks \nSmall Tire\n$300 Buy In + sponsor on top\n28/275 or smaller\nAny power adder \n6.50 Index\n$100 Buy In + sponsor on top\nTransbrakes allowed\nNo throttle stops\nPro tree NT / No tickets \nHard Tire\n$100 Buy In + sponsor on top\n200 tread wear\nNo drag radials\nNo AWD
URL:https://www.noprep.com/event/no-prep-heist-volume-1-yellow-belly-drag-strip/
LOCATION:Yellow Belly Dragway AKA “THE GUT”
CATEGORIES:No Prep Racing Events
ATTACH;FMTTYPE=image/jpeg:https://www.noprep.com/wp-content/uploads/2025/09/552000331_2529049524133514_7668186242992942185_n.jpg
END:VEVENT
BEGIN:VEVENT
DTSTART;VALUE=DATE:20241011
DTEND;VALUE=DATE:20241013
DTSTAMP:20260425T144602
CREATED:20240912T143658Z
LAST-MODIFIED:20240912T143703Z
UID:10000182-1728604800-1728777599@www.noprep.com
SUMMARY:Mr.Whipple's No Prep Grudge Fest/Shootout 3.0 40K JackPot
DESCRIPTION:Sports Event\,Drag Racing$20K guaranteed payout in Small Tire class28/10.5 no w or 275/60!!!$5K Bounty on any #BlackSheepMafia member!!!!$5K Bounty on #JunkYardStude$5K guaranteed payout in OutLaw Street\nNo Prep No Prep No Prep No Prep No Prep\nCash only\,Cash only\,Cash only!!\nTire size for all classes except for big tire\,RWYB is 28/10.5 no w or 275/60 If your rim is 17′ or bigger then you can have a wider tire. 7.0\,6.50\,&5.80 index\, tire size doesn’t matter.\nRules and Classes: Water Burn out OnlyAll Classes will run off of .400 Pro Tree\nStraight Off The Trailer!\nMust enter small tire or big tire class to be eligible for the bounties!\n#RWYB Buy in 250\,500 on top with 10 minimum! (Friday Night)\n#BigTire run what you brung! Buy in 250 100 percent payout!\n#SmallTire: Must have all body panels\, no hood is okay\,no bars!Buy in $500 1st round buyback only! 1st round October 11th Friday night!\n#LittleGangster‘s 5.30 cap\, Anything goes\, must be on a 28/10.5 no w. $200 buy in.Money on top.\n#OutLawStreet:$250 Buy in 5K guaranteed payout\, First round Friday night October 11th!Buy back 1st. round only: All steel All Glass no fiberglass except for hood and bumpers\, lexan back glass okay for trucks only with cages\,must have two front seats\, kirky seats okay\, rear seat delete okay\, stock suspension location\, fender or bumper exit okay for turbo and blower cars\, must have working charging and cooling system.\n#DailyDriver: 150 Buy In 500 on top with 10 minimum: Must have full factory interior \,no fiberglass body parts except for hood\, unless it came from the factory that way\, must have all working factory components\, must have charging and cooling system\, no back half\, stock suspension location\, racing front seats okay: rear seat delete okay. must be on a hard tire or drag radial.\nALL INDEX CLASSES:$100 buy in 100% pay back $50 buy back 1st round only 7.0\,6.50\,5.80\n#ItsGoingDown October 11th and 12th at #YelloBellyDragstrip\nFriday Gates will open at 12:00 for racers and 5:00 p.m for spectators.RWYB\, 7.0\,6.50\,5.80\, grudge racing\,1st round of Small Tire and Outlaw Street\, driver’s meeting at 9:00!Saturday Gates will open at 11:00 am Driver’s meeting at 5:00\n\nAdmission for racers 40.00 each day\,tech card included.\nGeneral Admission for spectators $30.00 each day\, VIP 100.00\,RV’s not attached to a trailer\, travel trailers\,and camper’s is 50.00 per day. VIP parking is 50.00 per day\,first come\, limited spots.Pit side parking 25.00 per day.\n\nSee less
URL:https://www.noprep.com/event/mr-whipples-no-prep-grudge-fest-shootout-3-0-40k-jackpot/
LOCATION:Yellow Belly Dragway AKA “THE GUT”
CATEGORIES:No Prep Racing Events
ATTACH;FMTTYPE=image/jpeg:https://www.noprep.com/wp-content/uploads/2024/09/457404931_1161295141645932_2081214590722525121_n.jpg
END:VEVENT
BEGIN:VEVENT
DTSTART;VALUE=DATE:20240412
DTEND;VALUE=DATE:20240415
DTSTAMP:20260425T144602
CREATED:20240411T145015Z
LAST-MODIFIED:20260305T181047Z
UID:10000170-1712880000-1713139199@www.noprep.com
SUMMARY:Small Tire Gangstas Struggle City
DESCRIPTION:April 12th & 13th!\nFriday Gates @\n12pm for racers\n4pm for spectators\nDrivers meeting 6pm\nSaturday Gates @\n8am for racers\n10am for spectators\nDrivers meeting 12pm\nLIL GANGSTAS\nRacers and crew will just pay general admission for the driver and two crew members. When you register for your class you will receive 3 bands to access the starting line. Anything over two crew members will need VIP bands to access the starting line.\nAll media will need to purchase VIP bands for starting line access.\n$40 One Day General Admission\n$70 Two Day General Admission\n$100 VIP (Starting Line Access)\nKids 12 & Under Free\nFriday April 12th-\nTrue Street\nHomerun Derby(SMALL TIRE SHOOTOUT)\nLate Model\nKing Cuhh\nSaturday April 13th-\nAnything on 28s\nLil Gangstas\nQuick Street\nCheap Street\nFootbrake\n\nClasses & Rules\nEVERY CLASS WILL BE. 400 PRO TREE\n(Anything on 28s)\nAnything on a 28×10.5 Non W or smaller.\n$300 Buy-In + $10\,000 on top! No minimum car count.\n(Lil Gangstas) presented by Accelerated Racing Solutions\n5.30 Index.\n28×10.5 non w or 275/60/15 or smaller unless equipped from the factory on 17in rim or bigger.\nMust be a door car\n$200 Buy-In + $7500 on top! No minimum car count.\n(True St) presented by Ashburn & Fisher Construction\nVehicle Must Be Tagged\, Titled\, and Insured – NO PAPER TAGS – NO EXCEPTIONS\nASAG\nMax tire size 28×11.5 unless equipped from the factory or 17in rim or bigger.\nMUST HAVE A DOT STAMP\nMust have factory front glass\, and factory body panels – aftermarket bumper/cover is okay.\nSubframe Connectors are allowed.\nFiberglass/Carbon Fiber Hood/Trunk Lid is allowed\,\nHood is Not Required in T/S.\nTrucks may have a Lexan rear glass for roll cage only.\nFender exits allowed\nNo Tube Chassis\, but a bolt in/weld In K-Member is allowed.\nMini-Tubs and Tubs are allowed.\nFactory Style Suspension in the stock location up front. Shock relocation kits are allowed (ie Aftermarket shocks and springs are allowed. Ladder bars are allowed but no aftermarket 4-Links.\nMust have 2 front seats\nTransbrake and 2-Steps are allowed\nDual power adders are allowed (ie: 2 kits of Nitrous\, Supercharger and 1 kit of Nitrous)\n15-20 Mile Cruise – must beat chase vehicle back\, Cruise maybe omitted by race officials for reasons they see fit.\nCannot use an ATV\, Golf Cart\, ETC to get to the line or return.\n$200 Buy-In + $2500 on top!\n(Quick St)\n5.60-5.90 random index.\n28×11.5/275/60/15 or smaller unless equipped from the factory or 17in rim or bigger.\n$150 Buy-In + $1000 on top!\n(Footbrake)\nAnything Footbrake.\n28×10.5 non w or 275/60/15 or smaller unless equipped from the factory on 17in rim or bigger.\n$200 Buy-In + $1000 on top!\n(King Cuhh)\nFull Size Truck\n6.0-6.50 random index.\n28×11.5 or 275/60/15 unless 17in rim or bigger.\n$150 Buy-In + $1000 on top!\n(Cheap Street)\nOpen to all makes\, all models\, all years!\n1. Transbrake is allowed. No throttle stops\, hard stops\, or electronic throttle stops.\n2. Full interior street cars and trucks 2 front seats; stock\, kirkey\, etc\, factory style dash\, door panels.\nBack seat delete is allowed.\n3. Must be Tagged\, inspected and insured. Must be legal for the state the car is from\, not all states require inspections\n4. All glass windows. Lexan rear window allowed for cage passing through window.\n5. No backhalf cars. Stock frame rail ladder bars allowed. Aftermarket bolt in stock suspension allowed.\n6. Must be able to make 20-30 mile cruise\, we will randomly cruise. Not at every race.\n7. Small tire only. 275/60-15 or 28×10.5-15. Unless equipped with larger tire from the factory. Any size tire allowed on 17in wheels or larger.\n8. Index will be drawn on race day. 6.50/6.70/6.90. If both parties agree\, they can run all out in the finals.\n$100 Buy-In + $1500 on top!\n(Late Model presented by Boosted Luckey)\nAnything on DOT 275 60 15 or smaller unless equipped with a 17in rim or bigger.\nVehicle year 2005+\nANY YEAR MAKE MODEL WITH A STICK SHIFT IS WELCOME.\nWorking AC/Heat\nFactory Style Suspension\nDual Power adder OK\nNo TH400 or Glide. (must have an overdrive transmission)\n$100 Buy-In + $500 on top!
URL:https://www.noprep.com/event/small-tire-gangstas-struggle-city/
LOCATION:Yellow Belly Dragway AKA “THE GUT”
CATEGORIES:No Prep Racing Events
ATTACH;FMTTYPE=image/jpeg:https://www.noprep.com/wp-content/uploads/2024/04/435065618_839061034931096_3184772098618674354_n.jpg
END:VEVENT
END:VCALENDAR